BEGIN:VCALENDAR
VERSION:2.0
PRODID:-//AusschreibungsRadar//Timeline//DE
CALSCALE:GREGORIAN
METHOD:PUBLISH
X-WR-CALNAME:Projekt Elektroinstallation
X-WR-TIMEZONE:Europe/Berlin
BEGIN:VEVENT
UID:2f564c8ece4367a5@ausschreibungsradar.com
DTSTAMP:20260424T105552Z
DTSTART;VALUE=DATE:20250725
DTEND;VALUE=DATE:20250725
SUMMARY:Ausschreibung — Elektroinstallation
DESCRIPTION:Phase: Ausschreibung | Beschreibung: Angebote werden eingeholt | Link: https://ausschreibungsradar.com/ausschreibung/580241fe-fb53-49c4-adb0-924f75de4ee2/
URL:https://ausschreibungsradar.com/ausschreibung/580241fe-fb53-49c4-adb0-924f75de4ee2/
END:VEVENT
BEGIN:VEVENT
UID:15c58b90f642777c@ausschreibungsradar.com
DTSTAMP:20260424T105552Z
DTSTART;VALUE=DATE:20250725
DTEND;VALUE=DATE:20250725
SUMMARY:Ausschreibung — Elektroinstallation
DESCRIPTION:Phase: Ausschreibung | Beschreibung: Offizielle Ausschreibung mit Bieterfrist. | Link: https://ausschreibungsradar.com/ausschreibung/b8b9ff9f-d4cb-4359-b86d-7f78e9abbeec/
URL:https://ausschreibungsradar.com/ausschreibung/b8b9ff9f-d4cb-4359-b86d-7f78e9abbeec/
END:VEVENT
END:VCALENDAR
