BEGIN:VCALENDAR
VERSION:2.0
PRODID:-//AusschreibungsRadar//Timeline//DE
CALSCALE:GREGORIAN
METHOD:PUBLISH
X-WR-CALNAME:Projekt Entsorgung nicht gefährlicher Abfälle StOBereich Leer, Weene
X-WR-TIMEZONE:Europe/Berlin
BEGIN:VEVENT
UID:c741b22ecdd48a12@ausschreibungsradar.com
DTSTAMP:20260424T165939Z
DTSTART;VALUE=DATE:20240618
DTEND;VALUE=DATE:20240618
SUMMARY:Ausschreibung — Entsorgung nicht gefährlicher Abfälle StOBereich Leer\, Weene
DESCRIPTION:Phase: Ausschreibung | Beschreibung: Angebote werden eingeholt | Link: https://ausschreibungsradar.com/ausschreibung/58712fae-673c-43df-9a11-c812470f4281/
URL:https://ausschreibungsradar.com/ausschreibung/58712fae-673c-43df-9a11-c812470f4281/
END:VEVENT
BEGIN:VEVENT
UID:39952fb86b3df537@ausschreibungsradar.com
DTSTAMP:20260424T165939Z
DTSTART;VALUE=DATE:20240618
DTEND;VALUE=DATE:20240618
SUMMARY:Änderung — Entsorgung nicht gefährlicher Abfälle StOBereich Leer\, Weene
DESCRIPTION:Phase: Änderung | Beschreibung: Verfahren abgebrochen | Link: https://ausschreibungsradar.com/ausschreibung/58712fae-673c-43df-9a11-c812470f4281/
URL:https://ausschreibungsradar.com/ausschreibung/58712fae-673c-43df-9a11-c812470f4281/
END:VEVENT
END:VCALENDAR
