BEGIN:VCALENDAR
VERSION:2.0
PRODID:-//AusschreibungsRadar//Timeline//DE
CALSCALE:GREGORIAN
METHOD:PUBLISH
X-WR-CALNAME:Projekt KU Spalt AöR - Bau Heizzentale
X-WR-TIMEZONE:Europe/Berlin
BEGIN:VEVENT
UID:0a6efb5982916ee6@ausschreibungsradar.com
DTSTAMP:20260425T110207Z
DTSTART;VALUE=DATE:20240903
DTEND;VALUE=DATE:20240903
SUMMARY:Angebotsfrist — KU Spalt AöR - Bau Heizzentale
DESCRIPTION:Phase: Ausschreibung | Beschreibung: Angebote werden eingeholt | Link: https://ausschreibungsradar.com/ausschreibung/587e6aad-c22c-4440-8d62-0848cd95652b/
URL:https://ausschreibungsradar.com/ausschreibung/587e6aad-c22c-4440-8d62-0848cd95652b/
END:VEVENT
BEGIN:VEVENT
UID:176074bc09a1c669@ausschreibungsradar.com
DTSTAMP:20260425T110207Z
DTSTART;VALUE=DATE:20241014
DTEND;VALUE=DATE:20241014
SUMMARY:Vergabeergebnis — KU Spalt AöR - Bau Heizzentale
DESCRIPTION:Phase: Vergabeergebnis | Beschreibung: Auftrag wurde zugeschlagen | Link: https://ausschreibungsradar.com/ausschreibung/3aadebe0-2717-4f30-ae8e-e337959a4ccd/
URL:https://ausschreibungsradar.com/ausschreibung/3aadebe0-2717-4f30-ae8e-e337959a4ccd/
END:VEVENT
END:VCALENDAR
