BEGIN:VCALENDAR
VERSION:2.0
PRODID:-//AusschreibungsRadar//Timeline//DE
CALSCALE:GREGORIAN
METHOD:PUBLISH
X-WR-CALNAME:Projekt Innensanierung Peißnitzhaus - Elt-Planung
X-WR-TIMEZONE:Europe/Berlin
BEGIN:VEVENT
UID:2b424d6d38733fdc@ausschreibungsradar.com
DTSTAMP:20260424T082041Z
DTSTART;VALUE=DATE:20240621
DTEND;VALUE=DATE:20240621
SUMMARY:Ausschreibung — Innensanierung Peißnitzhaus - Elt-Planung
DESCRIPTION:Phase: Ausschreibung | Beschreibung: Angebote werden eingeholt | Link: https://ausschreibungsradar.com/ausschreibung/58ad26cc-5443-4ef7-a825-80edd2d9cc75/
URL:https://ausschreibungsradar.com/ausschreibung/58ad26cc-5443-4ef7-a825-80edd2d9cc75/
END:VEVENT
BEGIN:VEVENT
UID:de4881793493e3ae@ausschreibungsradar.com
DTSTAMP:20260424T082041Z
DTSTART;VALUE=DATE:20240621
DTEND;VALUE=DATE:20240621
SUMMARY:Ausschreibung — Innensanierung Peißnitzhaus - Elt-Planung
DESCRIPTION:Phase: Ausschreibung | Beschreibung: Offizielle Ausschreibung mit Bieterfrist. | Link: https://ausschreibungsradar.com/ausschreibung/394271e3-15e6-435e-925e-e9ef6b282b48/
URL:https://ausschreibungsradar.com/ausschreibung/394271e3-15e6-435e-925e-e9ef6b282b48/
END:VEVENT
BEGIN:VEVENT
UID:005cfa2ff8097408@ausschreibungsradar.com
DTSTAMP:20260424T082041Z
DTSTART;VALUE=DATE:20250115
DTEND;VALUE=DATE:20250115
SUMMARY:Vergabeergebnis — Innensanierung Peißnitzhaus - Elt-Planung
DESCRIPTION:Phase: Vergabeergebnis | Beschreibung: Auftrag wurde zugeschlagen | Link: https://ausschreibungsradar.com/ausschreibung/32199de8-a765-4338-b1d8-e903a2164f02/
URL:https://ausschreibungsradar.com/ausschreibung/32199de8-a765-4338-b1d8-e903a2164f02/
END:VEVENT
END:VCALENDAR
