BEGIN:VCALENDAR
VERSION:2.0
PRODID:-//AusschreibungsRadar//Timeline//DE
CALSCALE:GREGORIAN
METHOD:PUBLISH
X-WR-CALNAME:Projekt Sicherheitsdienst für 2 Erstaufnahmeeinrichtungsstandorte in
X-WR-TIMEZONE:Europe/Berlin
BEGIN:VEVENT
UID:5190ffed4afb91fb@ausschreibungsradar.com
DTSTAMP:20260424T062631Z
DTSTART;VALUE=DATE:20260402
DTEND;VALUE=DATE:20260402
SUMMARY:Angebotsfrist — Sicherheitsdienst für 2 Erstaufnahmeeinrichtungsstandorte in
DESCRIPTION:Phase: Ausschreibung | Beschreibung: Angebote werden eingeholt | Link: https://ausschreibungsradar.com/ausschreibung/59047d54-e64d-4f0c-9fad-74b93db86766/
URL:https://ausschreibungsradar.com/ausschreibung/59047d54-e64d-4f0c-9fad-74b93db86766/
END:VEVENT
BEGIN:VEVENT
UID:4f9db2230ba23ec8@ausschreibungsradar.com
DTSTAMP:20260424T062631Z
DTSTART;VALUE=DATE:20260210
DTEND;VALUE=DATE:20260210
SUMMARY:Ausschreibung — Sicherheitsdienst für 2 Erstaufnahmeeinrichtungsstandorte in
DESCRIPTION:Phase: Ausschreibung | Beschreibung: Offizielle Ausschreibung mit Bieterfrist. | Link: https://ausschreibungsradar.com/ausschreibung/d8a09883-6945-44b7-b635-1a7af902c85c/
URL:https://ausschreibungsradar.com/ausschreibung/d8a09883-6945-44b7-b635-1a7af902c85c/
END:VEVENT
BEGIN:VEVENT
UID:9eee0f932cde5cee@ausschreibungsradar.com
DTSTAMP:20260424T062631Z
DTSTART;VALUE=DATE:20260210
DTEND;VALUE=DATE:20260210
SUMMARY:Ausschreibung — Sicherheitsdienst für 2 Erstaufnahmeeinrichtungsstandorte in
DESCRIPTION:Phase: Ausschreibung | Beschreibung: Offizielle Ausschreibung mit Bieterfrist. | Link: https://ausschreibungsradar.com/ausschreibung/08327a4f-f58f-4fcf-8d1f-314e699348cd/
URL:https://ausschreibungsradar.com/ausschreibung/08327a4f-f58f-4fcf-8d1f-314e699348cd/
END:VEVENT
BEGIN:VEVENT
UID:e17250d0cd5b533d@ausschreibungsradar.com
DTSTAMP:20260424T062631Z
DTSTART;VALUE=DATE:20260210
DTEND;VALUE=DATE:20260210
SUMMARY:Ausschreibung — Sicherheitsdienst für 2 Erstaufnahmeeinrichtungsstandorte in
DESCRIPTION:Phase: Ausschreibung | Beschreibung: Offizielle Ausschreibung mit Bieterfrist. | Link: https://ausschreibungsradar.com/ausschreibung/33f9f709-db48-4bb6-8879-bf614b404f61/
URL:https://ausschreibungsradar.com/ausschreibung/33f9f709-db48-4bb6-8879-bf614b404f61/
END:VEVENT
BEGIN:VEVENT
UID:e1b2524d538f1029@ausschreibungsradar.com
DTSTAMP:20260424T062631Z
DTSTART;VALUE=DATE:20260210
DTEND;VALUE=DATE:20260210
SUMMARY:Zuschlag — Sicherheitsdienst für 2 Erstaufnahmeeinrichtungsstandorte in
DESCRIPTION:Phase: Zuschlag | Beschreibung: Vergabeergebnis — Auftrag wurde erteilt oder Verfahren beendet. | Link: https://ausschreibungsradar.com/ausschreibung/c8119bce-8c3b-48c7-b4ec-9e0d796b4d55/
URL:https://ausschreibungsradar.com/ausschreibung/c8119bce-8c3b-48c7-b4ec-9e0d796b4d55/
END:VEVENT
END:VCALENDAR
