BEGIN:VCALENDAR
VERSION:2.0
PRODID:-//AusschreibungsRadar//Timeline//DE
CALSCALE:GREGORIAN
METHOD:PUBLISH
X-WR-CALNAME:Projekt Generalsanierung des Dreifachturnhallenkomplexes Fürstenstei
X-WR-TIMEZONE:Europe/Berlin
BEGIN:VEVENT
UID:df41e428277bcd6f@ausschreibungsradar.com
DTSTAMP:20260425T185026Z
DTSTART;VALUE=DATE:20260421
DTEND;VALUE=DATE:20260421
SUMMARY:Angebotsfrist — Generalsanierung des Dreifachturnhallenkomplexes Fürstenstei
DESCRIPTION:Phase: Ausschreibung | Beschreibung: Angebote werden eingeholt | Link: https://ausschreibungsradar.com/ausschreibung/593a1c76-5fc9-4c06-a921-30926efdf464/
URL:https://ausschreibungsradar.com/ausschreibung/593a1c76-5fc9-4c06-a921-30926efdf464/
END:VEVENT
BEGIN:VEVENT
UID:45b1934dbc0850bd@ausschreibungsradar.com
DTSTAMP:20260425T185026Z
DTSTART;VALUE=DATE:20260317
DTEND;VALUE=DATE:20260317
SUMMARY:Ausschreibung — Generalsanierung des Dreifachturnhallenkomplexes Fürstenstei
DESCRIPTION:Phase: Ausschreibung | Beschreibung: Offizielle Ausschreibung mit Bieterfrist. | Link: https://ausschreibungsradar.com/ausschreibung/2c34d870-4b65-4690-a885-9b20ad5586f9/
URL:https://ausschreibungsradar.com/ausschreibung/2c34d870-4b65-4690-a885-9b20ad5586f9/
END:VEVENT
BEGIN:VEVENT
UID:ca913893708091af@ausschreibungsradar.com
DTSTAMP:20260425T185026Z
DTSTART;VALUE=DATE:20260317
DTEND;VALUE=DATE:20260317
SUMMARY:Ausschreibung — Generalsanierung des Dreifachturnhallenkomplexes Fürstenstei
DESCRIPTION:Phase: Ausschreibung | Beschreibung: Offizielle Ausschreibung mit Bieterfrist. | Link: https://ausschreibungsradar.com/ausschreibung/3ade5f02-c5f6-4094-be89-1cdd8f68db1c/
URL:https://ausschreibungsradar.com/ausschreibung/3ade5f02-c5f6-4094-be89-1cdd8f68db1c/
END:VEVENT
END:VCALENDAR
