BEGIN:VCALENDAR
VERSION:2.0
PRODID:-//AusschreibungsRadar//Timeline//DE
CALSCALE:GREGORIAN
METHOD:PUBLISH
X-WR-CALNAME:Projekt Neubau Kindertagesstätte, Im Brühl 26, Aufzugsanlage
X-WR-TIMEZONE:Europe/Berlin
BEGIN:VEVENT
UID:96450837215278e9@ausschreibungsradar.com
DTSTAMP:20260425T203248Z
DTSTART;VALUE=DATE:20240320
DTEND;VALUE=DATE:20240320
SUMMARY:Angebotsfrist — Neubau Kindertagesstätte\, Im Brühl 26\, Aufzugsanlage
DESCRIPTION:Phase: Ausschreibung | Beschreibung: Angebote werden eingeholt | Link: https://ausschreibungsradar.com/ausschreibung/2c59542b-af5d-41d8-978a-b73572f3209c/
URL:https://ausschreibungsradar.com/ausschreibung/2c59542b-af5d-41d8-978a-b73572f3209c/
END:VEVENT
BEGIN:VEVENT
UID:798dbfc5061f4ab1@ausschreibungsradar.com
DTSTAMP:20260425T203248Z
DTSTART;VALUE=DATE:20240417
DTEND;VALUE=DATE:20240417
SUMMARY:Vergabeergebnis — Neubau Kindertagesstätte\, Im Brühl 26\, Aufzugsanlage
DESCRIPTION:Phase: Vergabeergebnis | Beschreibung: Auftrag wurde zugeschlagen | Link: https://ausschreibungsradar.com/ausschreibung/594b2d89-55e5-4d26-8399-11c0b7bbbc5f/
URL:https://ausschreibungsradar.com/ausschreibung/594b2d89-55e5-4d26-8399-11c0b7bbbc5f/
END:VEVENT
BEGIN:VEVENT
UID:ca2ff2caf259f5f5@ausschreibungsradar.com
DTSTAMP:20260425T203248Z
DTSTART;VALUE=DATE:20240417
DTEND;VALUE=DATE:20240417
SUMMARY:Zuschlag — Neubau Kindertagesstätte\, Im Brühl 26\, Aufzugsanlage
DESCRIPTION:Phase: Zuschlag | Beschreibung: Vergabeergebnis — Auftrag wurde erteilt oder Verfahren beendet. | Link: https://ausschreibungsradar.com/ausschreibung/307fadd2-569d-4cdb-8fae-adb3d9235353/
URL:https://ausschreibungsradar.com/ausschreibung/307fadd2-569d-4cdb-8fae-adb3d9235353/
END:VEVENT
END:VCALENDAR
