BEGIN:VCALENDAR
VERSION:2.0
PRODID:-//AusschreibungsRadar//Timeline//DE
CALSCALE:GREGORIAN
METHOD:PUBLISH
X-WR-CALNAME:Projekt Vergabe von Projektsteuerungsleistungen
X-WR-TIMEZONE:Europe/Berlin
BEGIN:VEVENT
UID:a510b7e4378e6263@ausschreibungsradar.com
DTSTAMP:20260425T173249Z
DTSTART;VALUE=DATE:20250516
DTEND;VALUE=DATE:20250516
SUMMARY:Ausschreibung — Vergabe von Projektsteuerungsleistungen
DESCRIPTION:Phase: Ausschreibung | Beschreibung: Angebote werden eingeholt | Link: https://ausschreibungsradar.com/ausschreibung/5a09df91-c322-423f-8ea6-31a8f10eb552/
URL:https://ausschreibungsradar.com/ausschreibung/5a09df91-c322-423f-8ea6-31a8f10eb552/
END:VEVENT
BEGIN:VEVENT
UID:e8eff4398c218478@ausschreibungsradar.com
DTSTAMP:20260425T173249Z
DTSTART;VALUE=DATE:20251124
DTEND;VALUE=DATE:20251124
SUMMARY:Vergabeergebnis — Vergabe von Projektsteuerungsleistungen
DESCRIPTION:Phase: Vergabeergebnis | Beschreibung: Auftrag wurde zugeschlagen | Link: https://ausschreibungsradar.com/ausschreibung/157140ce-1078-44be-a94e-0a2d93d0c7a4/
URL:https://ausschreibungsradar.com/ausschreibung/157140ce-1078-44be-a94e-0a2d93d0c7a4/
END:VEVENT
END:VCALENDAR
