BEGIN:VCALENDAR
VERSION:2.0
PRODID:-//AusschreibungsRadar//Timeline//DE
CALSCALE:GREGORIAN
METHOD:PUBLISH
X-WR-CALNAME:Projekt Ausschreibung Gebäudereinigung - Stadt Senden
X-WR-TIMEZONE:Europe/Berlin
BEGIN:VEVENT
UID:712bbec04066e78e@ausschreibungsradar.com
DTSTAMP:20260424T053056Z
DTSTART;VALUE=DATE:20250929
DTEND;VALUE=DATE:20250929
SUMMARY:Angebotsfrist — Ausschreibung Gebäudereinigung - Stadt Senden
DESCRIPTION:Phase: Ausschreibung | Beschreibung: Angebote werden eingeholt | Link: https://ausschreibungsradar.com/ausschreibung/6dcd4893-eb56-4437-854f-06e351a07672/
URL:https://ausschreibungsradar.com/ausschreibung/6dcd4893-eb56-4437-854f-06e351a07672/
END:VEVENT
BEGIN:VEVENT
UID:ea5b87d01fbeb495@ausschreibungsradar.com
DTSTAMP:20260424T053056Z
DTSTART;VALUE=DATE:20251209
DTEND;VALUE=DATE:20251209
SUMMARY:Vergabeergebnis — Ausschreibung Gebäudereinigung - Stadt Senden
DESCRIPTION:Phase: Vergabeergebnis | Beschreibung: Auftrag wurde zugeschlagen | Link: https://ausschreibungsradar.com/ausschreibung/5a41e414-393c-4c3c-adac-6818eeb42c3d/
URL:https://ausschreibungsradar.com/ausschreibung/5a41e414-393c-4c3c-adac-6818eeb42c3d/
END:VEVENT
END:VCALENDAR
