BEGIN:VCALENDAR
VERSION:2.0
PRODID:-//AusschreibungsRadar//Timeline//DE
CALSCALE:GREGORIAN
METHOD:PUBLISH
X-WR-CALNAME:Projekt Klempnerarbeiten
X-WR-TIMEZONE:Europe/Berlin
BEGIN:VEVENT
UID:afcfe7b03b57584f@ausschreibungsradar.com
DTSTAMP:20260424T120958Z
DTSTART;VALUE=DATE:20250923
DTEND;VALUE=DATE:20250923
SUMMARY:Angebotsfrist — Klempnerarbeiten
DESCRIPTION:Phase: Ausschreibung | Beschreibung: Angebote werden eingeholt | Link: https://ausschreibungsradar.com/ausschreibung/5aad5203-3a4e-4b72-8946-7905ffacc306/
URL:https://ausschreibungsradar.com/ausschreibung/5aad5203-3a4e-4b72-8946-7905ffacc306/
END:VEVENT
BEGIN:VEVENT
UID:ab27d64414e9f321@ausschreibungsradar.com
DTSTAMP:20260424T120958Z
DTSTART;VALUE=DATE:20251124
DTEND;VALUE=DATE:20251124
SUMMARY:Vergabeergebnis — Klempnerarbeiten
DESCRIPTION:Phase: Vergabeergebnis | Beschreibung: Auftrag wurde zugeschlagen | Link: https://ausschreibungsradar.com/ausschreibung/a4ec7eba-4df1-4267-beda-8851fd3ac27b/ | Auftragnehmer: STEFAN SCHMID
URL:https://ausschreibungsradar.com/ausschreibung/a4ec7eba-4df1-4267-beda-8851fd3ac27b/
END:VEVENT
END:VCALENDAR
