BEGIN:VCALENDAR
VERSION:2.0
PRODID:-//AusschreibungsRadar//Timeline//DE
CALSCALE:GREGORIAN
METHOD:PUBLISH
X-WR-CALNAME:Projekt Erweiterung Gebrüder-Grimm-Schule in Grevenbroich | Fachplan
X-WR-TIMEZONE:Europe/Berlin
BEGIN:VEVENT
UID:ce80beae296be1d1@ausschreibungsradar.com
DTSTAMP:20260425T133147Z
DTSTART;VALUE=DATE:20250926
DTEND;VALUE=DATE:20250926
SUMMARY:Ausschreibung — Erweiterung Gebrüder-Grimm-Schule in Grevenbroich | Fachplan
DESCRIPTION:Phase: Ausschreibung | Beschreibung: Angebote werden eingeholt | Link: https://ausschreibungsradar.com/ausschreibung/bdc8e27b-60e2-48d5-8516-976a5162ea8a/
URL:https://ausschreibungsradar.com/ausschreibung/bdc8e27b-60e2-48d5-8516-976a5162ea8a/
END:VEVENT
BEGIN:VEVENT
UID:db24281fc2bfbe94@ausschreibungsradar.com
DTSTAMP:20260425T133147Z
DTSTART;VALUE=DATE:20260416
DTEND;VALUE=DATE:20260416
SUMMARY:Vergabeergebnis — Erweiterung Gebrüder-Grimm-Schule in Grevenbroich | Fachplan
DESCRIPTION:Phase: Vergabeergebnis | Beschreibung: Auftrag wurde zugeschlagen | Link: https://ausschreibungsradar.com/ausschreibung/5b4779cf-335d-4c79-83a6-ddb15ef8590a/
URL:https://ausschreibungsradar.com/ausschreibung/5b4779cf-335d-4c79-83a6-ddb15ef8590a/
END:VEVENT
BEGIN:VEVENT
UID:f6ed2c163743fb6e@ausschreibungsradar.com
DTSTAMP:20260425T133147Z
DTSTART;VALUE=DATE:20260416
DTEND;VALUE=DATE:20260416
SUMMARY:Zuschlag — Erweiterung Gebrüder-Grimm-Schule in Grevenbroich | Fachplan
DESCRIPTION:Phase: Zuschlag | Beschreibung: Vergabeergebnis — Auftrag wurde erteilt oder Verfahren beendet. | Link: https://ausschreibungsradar.com/ausschreibung/6c0a1b9e-1feb-4ba9-a271-f68e59b93cdc/
URL:https://ausschreibungsradar.com/ausschreibung/6c0a1b9e-1feb-4ba9-a271-f68e59b93cdc/
END:VEVENT
END:VCALENDAR
