BEGIN:VCALENDAR
VERSION:2.0
PRODID:-//AusschreibungsRadar//Timeline//DE
CALSCALE:GREGORIAN
METHOD:PUBLISH
X-WR-CALNAME:Projekt Spülleistungen im Personalrestaurant und der de-zentralen Sp
X-WR-TIMEZONE:Europe/Berlin
BEGIN:VEVENT
UID:f60773d7ba42c926@ausschreibungsradar.com
DTSTAMP:20260424T203642Z
DTSTART;VALUE=DATE:20250120
DTEND;VALUE=DATE:20250120
SUMMARY:Angebotsfrist — Spülleistungen im Personalrestaurant und der de-zentralen Sp
DESCRIPTION:Phase: Ausschreibung | Beschreibung: Angebote werden eingeholt | Link: https://ausschreibungsradar.com/ausschreibung/5bcc2e3d-1997-466b-b353-36ce990b2b57/
URL:https://ausschreibungsradar.com/ausschreibung/5bcc2e3d-1997-466b-b353-36ce990b2b57/
END:VEVENT
BEGIN:VEVENT
UID:315a3f40bdee782a@ausschreibungsradar.com
DTSTAMP:20260424T203642Z
DTSTART;VALUE=DATE:20241212
DTEND;VALUE=DATE:20241212
SUMMARY:Ausschreibung — Spülleistungen im Personalrestaurant und der de-zentralen Sp
DESCRIPTION:Phase: Ausschreibung | Beschreibung: Offizielle Ausschreibung mit Bieterfrist. | Link: https://ausschreibungsradar.com/ausschreibung/0b2ac77b-1643-41d1-b601-125a763a7068/
URL:https://ausschreibungsradar.com/ausschreibung/0b2ac77b-1643-41d1-b601-125a763a7068/
END:VEVENT
BEGIN:VEVENT
UID:343bef3aec1cd926@ausschreibungsradar.com
DTSTAMP:20260424T203642Z
DTSTART;VALUE=DATE:20250109
DTEND;VALUE=DATE:20250109
SUMMARY:Vergabeergebnis — Spülleistungen im Personalrestaurant und der de-zentralen Sp
DESCRIPTION:Phase: Vergabeergebnis | Beschreibung: Sonstige Gründe | Link: https://ausschreibungsradar.com/ausschreibung/06774b39-83d5-466c-b9f4-b9ea8d37af8b/ | Geschätzter Wert: 1 €
URL:https://ausschreibungsradar.com/ausschreibung/06774b39-83d5-466c-b9f4-b9ea8d37af8b/
END:VEVENT
END:VCALENDAR
