BEGIN:VCALENDAR
VERSION:2.0
PRODID:-//AusschreibungsRadar//Timeline//DE
CALSCALE:GREGORIAN
METHOD:PUBLISH
X-WR-CALNAME:Projekt Bioabfallverwertung mit Übernahme und Transport
X-WR-TIMEZONE:Europe/Berlin
BEGIN:VEVENT
UID:0f9554b5bc8d1bcc@ausschreibungsradar.com
DTSTAMP:20260425T194529Z
DTSTART;VALUE=DATE:20250408
DTEND;VALUE=DATE:20250408
SUMMARY:Angebotsfrist — Bioabfallverwertung mit Übernahme und Transport
DESCRIPTION:Phase: Ausschreibung | Beschreibung: Angebote werden eingeholt | Link: https://ausschreibungsradar.com/ausschreibung/c3629e5f-be33-4155-80f5-bb28376aca3e/
URL:https://ausschreibungsradar.com/ausschreibung/c3629e5f-be33-4155-80f5-bb28376aca3e/
END:VEVENT
BEGIN:VEVENT
UID:4802199535ecbec3@ausschreibungsradar.com
DTSTAMP:20260425T194529Z
DTSTART;VALUE=DATE:20250714
DTEND;VALUE=DATE:20250714
SUMMARY:Vergabeergebnis — Bioabfallverwertung mit Übernahme und Transport
DESCRIPTION:Phase: Vergabeergebnis | Beschreibung: Auftrag wurde zugeschlagen | Link: https://ausschreibungsradar.com/ausschreibung/5bfd8bbf-235d-4543-bc43-076032323311/
URL:https://ausschreibungsradar.com/ausschreibung/5bfd8bbf-235d-4543-bc43-076032323311/
END:VEVENT
END:VCALENDAR
