BEGIN:VCALENDAR
VERSION:2.0
PRODID:-//AusschreibungsRadar//Timeline//DE
CALSCALE:GREGORIAN
METHOD:PUBLISH
X-WR-CALNAME:Projekt Sächs. Kompetenzzentrum Mitteldeutschland,LVG Köllitsch, Mil
X-WR-TIMEZONE:Europe/Berlin
BEGIN:VEVENT
UID:039b5a969fbdc361@ausschreibungsradar.com
DTSTAMP:20260426T010521Z
DTSTART;VALUE=DATE:20250908
DTEND;VALUE=DATE:20250908
SUMMARY:Angebotsfrist — Sächs. Kompetenzzentrum Mitteldeutschland\,LVG Köllitsch\, Mil
DESCRIPTION:Phase: Ausschreibung | Beschreibung: Angebote werden eingeholt | Link: https://ausschreibungsradar.com/ausschreibung/c7aaf2a9-6558-4795-a919-abd173995059/
URL:https://ausschreibungsradar.com/ausschreibung/c7aaf2a9-6558-4795-a919-abd173995059/
END:VEVENT
BEGIN:VEVENT
UID:b4bd7b7eb7d9a737@ausschreibungsradar.com
DTSTAMP:20260426T010521Z
DTSTART;VALUE=DATE:20251103
DTEND;VALUE=DATE:20251103
SUMMARY:Zuschlag — Sächs. Kompetenzzentrum Mitteldeutschland\,LVG Köllitsch\, Mil
DESCRIPTION:Phase: Zuschlag | Beschreibung: Vergabeergebnis — Auftrag wurde erteilt oder Verfahren beendet. | Link: https://ausschreibungsradar.com/ausschreibung/46747d27-c882-4de6-9e07-d0594b5f3c7f/
URL:https://ausschreibungsradar.com/ausschreibung/46747d27-c882-4de6-9e07-d0594b5f3c7f/
END:VEVENT
BEGIN:VEVENT
UID:f64962c1ce2c77a8@ausschreibungsradar.com
DTSTAMP:20260426T010521Z
DTSTART;VALUE=DATE:20251104
DTEND;VALUE=DATE:20251104
SUMMARY:Ausschreibung — Sächs. Kompetenzzentrum Mitteldeutschland\,LVG Köllitsch\, Mil
DESCRIPTION:Phase: Ausschreibung | Beschreibung: Offizielle Ausschreibung mit Bieterfrist. | Link: https://ausschreibungsradar.com/ausschreibung/8ec938e5-0fd9-4284-9281-4c89221b24b1/
URL:https://ausschreibungsradar.com/ausschreibung/8ec938e5-0fd9-4284-9281-4c89221b24b1/
END:VEVENT
BEGIN:VEVENT
UID:b14b66da5a29ffb7@ausschreibungsradar.com
DTSTAMP:20260426T010521Z
DTSTART;VALUE=DATE:20251112
DTEND;VALUE=DATE:20251112
SUMMARY:Vergabeergebnis — Sächs. Kompetenzzentrum Mitteldeutschland\,LVG Köllitsch\, Mil
DESCRIPTION:Phase: Vergabeergebnis | Beschreibung: Auftrag wurde zugeschlagen | Link: https://ausschreibungsradar.com/ausschreibung/5c3462b5-8384-4697-bee5-f4e4cab51bf7/
URL:https://ausschreibungsradar.com/ausschreibung/5c3462b5-8384-4697-bee5-f4e4cab51bf7/
END:VEVENT
END:VCALENDAR
