BEGIN:VCALENDAR
VERSION:2.0
PRODID:-//AusschreibungsRadar//Timeline//DE
CALSCALE:GREGORIAN
METHOD:PUBLISH
X-WR-CALNAME:Projekt Neubau Förderzentrum West (FZ) und Straßenverkehrsamt (SVA) 
X-WR-TIMEZONE:Europe/Berlin
BEGIN:VEVENT
UID:cd391dcc93203d00@ausschreibungsradar.com
DTSTAMP:20260424T142358Z
DTSTART;VALUE=DATE:20241011
DTEND;VALUE=DATE:20241011
SUMMARY:Angebotsfrist — Neubau Förderzentrum West (FZ) und Straßenverkehrsamt (SVA) 
DESCRIPTION:Phase: Ausschreibung | Beschreibung: Angebote werden eingeholt | Link: https://ausschreibungsradar.com/ausschreibung/b47c2eb0-4e70-4051-8114-30e24da59a36/
URL:https://ausschreibungsradar.com/ausschreibung/b47c2eb0-4e70-4051-8114-30e24da59a36/
END:VEVENT
BEGIN:VEVENT
UID:625f1d5a27ec833d@ausschreibungsradar.com
DTSTAMP:20260424T142358Z
DTSTART;VALUE=DATE:20241210
DTEND;VALUE=DATE:20241210
SUMMARY:Vergabeergebnis — Neubau Förderzentrum West (FZ) und Straßenverkehrsamt (SVA) 
DESCRIPTION:Phase: Vergabeergebnis | Beschreibung: Auftrag wurde zugeschlagen | Link: https://ausschreibungsradar.com/ausschreibung/5c3c103b-c213-4a92-8bd9-df33a9a8908e/
URL:https://ausschreibungsradar.com/ausschreibung/5c3c103b-c213-4a92-8bd9-df33a9a8908e/
END:VEVENT
BEGIN:VEVENT
UID:049435d499c772ba@ausschreibungsradar.com
DTSTAMP:20260424T142358Z
DTSTART;VALUE=DATE:20241217
DTEND;VALUE=DATE:20241217
SUMMARY:Zuschlag — Neubau Förderzentrum West (FZ) und Straßenverkehrsamt (SVA) 
DESCRIPTION:Phase: Zuschlag | Beschreibung: Vergabeergebnis — Auftrag wurde erteilt oder Verfahren beendet. | Link: https://ausschreibungsradar.com/ausschreibung/3b8bea96-c943-4eae-b078-54949821bc07/
URL:https://ausschreibungsradar.com/ausschreibung/3b8bea96-c943-4eae-b078-54949821bc07/
END:VEVENT
END:VCALENDAR
