BEGIN:VCALENDAR
VERSION:2.0
PRODID:-//AusschreibungsRadar//Timeline//DE
CALSCALE:GREGORIAN
METHOD:PUBLISH
X-WR-CALNAME:Projekt 1 Mitarbeiter (m/w/d) in ANÜ – Mitarbeiter Elektrotechnik / 
X-WR-TIMEZONE:Europe/Berlin
BEGIN:VEVENT
UID:6c574589378b9eb6@ausschreibungsradar.com
DTSTAMP:20260425T034509Z
DTSTART;VALUE=DATE:20240123
DTEND;VALUE=DATE:20240123
SUMMARY:Zuschlag — 1 Mitarbeiter (m/w/d) in ANÜ – Mitarbeiter Elektrotechnik / 
DESCRIPTION:Phase: Zuschlag | Beschreibung: Vergabeergebnis — Auftrag wurde erteilt oder Verfahren beendet. | Link: https://ausschreibungsradar.com/ausschreibung/8f0d3d36-8efb-493f-8a8a-7ea0ffe8a1f6/
URL:https://ausschreibungsradar.com/ausschreibung/8f0d3d36-8efb-493f-8a8a-7ea0ffe8a1f6/
END:VEVENT
BEGIN:VEVENT
UID:15b5226138c7030f@ausschreibungsradar.com
DTSTAMP:20260425T034509Z
DTSTART;VALUE=DATE:20240126
DTEND;VALUE=DATE:20240126
SUMMARY:Ausschreibung — 1 Mitarbeiter (m/w/d) in ANÜ – Mitarbeiter Elektrotechnik / 
DESCRIPTION:Phase: Ausschreibung | Beschreibung: Angebote werden eingeholt | Link: https://ausschreibungsradar.com/ausschreibung/5c3f0b87-fef9-4d96-b976-a62f7b38d2cc/
URL:https://ausschreibungsradar.com/ausschreibung/5c3f0b87-fef9-4d96-b976-a62f7b38d2cc/
END:VEVENT
BEGIN:VEVENT
UID:b7e287f7c4e365cd@ausschreibungsradar.com
DTSTAMP:20260425T034509Z
DTSTART;VALUE=DATE:20240126
DTEND;VALUE=DATE:20240126
SUMMARY:Ausschreibung — 1 Mitarbeiter (m/w/d) in ANÜ – Mitarbeiter Elektrotechnik / 
DESCRIPTION:Phase: Ausschreibung | Beschreibung: Offizielle Ausschreibung mit Bieterfrist. | Link: https://ausschreibungsradar.com/ausschreibung/f5c9326f-8780-44ee-ba1e-d4577137aaa7/
URL:https://ausschreibungsradar.com/ausschreibung/f5c9326f-8780-44ee-ba1e-d4577137aaa7/
END:VEVENT
BEGIN:VEVENT
UID:58b1ea16884a31fc@ausschreibungsradar.com
DTSTAMP:20260425T034509Z
DTSTART;VALUE=DATE:20240126
DTEND;VALUE=DATE:20240126
SUMMARY:Ausschreibung — 1 Mitarbeiter (m/w/d) in ANÜ – Mitarbeiter Elektrotechnik / 
DESCRIPTION:Phase: Ausschreibung | Beschreibung: Offizielle Ausschreibung mit Bieterfrist. | Link: https://ausschreibungsradar.com/ausschreibung/bba54c70-6652-4f7c-ad90-0601dac38a63/
URL:https://ausschreibungsradar.com/ausschreibung/bba54c70-6652-4f7c-ad90-0601dac38a63/
END:VEVENT
BEGIN:VEVENT
UID:9946e018bf2a041f@ausschreibungsradar.com
DTSTAMP:20260425T034509Z
DTSTART;VALUE=DATE:20240222
DTEND;VALUE=DATE:20240222
SUMMARY:Ausschreibung — 1 Mitarbeiter (m/w/d) in ANÜ – Mitarbeiter Elektrotechnik / 
DESCRIPTION:Phase: Ausschreibung | Beschreibung: Offizielle Ausschreibung mit Bieterfrist. | Link: https://ausschreibungsradar.com/ausschreibung/b88f8a74-b5dc-43e7-aa93-baf999274abb/
URL:https://ausschreibungsradar.com/ausschreibung/b88f8a74-b5dc-43e7-aa93-baf999274abb/
END:VEVENT
BEGIN:VEVENT
UID:e28b3f7dbc98f35a@ausschreibungsradar.com
DTSTAMP:20260425T034509Z
DTSTART;VALUE=DATE:20240423
DTEND;VALUE=DATE:20240423
SUMMARY:Vergabeergebnis — 1 Mitarbeiter (m/w/d) in ANÜ – Mitarbeiter Elektrotechnik / 
DESCRIPTION:Phase: Vergabeergebnis | Beschreibung: Auftrag wurde zugeschlagen | Link: https://ausschreibungsradar.com/ausschreibung/0105d323-0db9-42c8-af2d-92c289517413/
URL:https://ausschreibungsradar.com/ausschreibung/0105d323-0db9-42c8-af2d-92c289517413/
END:VEVENT
END:VCALENDAR
