BEGIN:VCALENDAR
VERSION:2.0
PRODID:-//AusschreibungsRadar//Timeline//DE
CALSCALE:GREGORIAN
METHOD:PUBLISH
X-WR-CALNAME:Projekt Schulkinderbetreuung an der Sonnenrain-Schule, Radolfzell am
X-WR-TIMEZONE:Europe/Berlin
BEGIN:VEVENT
UID:537876ed0568d0e0@ausschreibungsradar.com
DTSTAMP:20260424T155404Z
DTSTART;VALUE=DATE:20240416
DTEND;VALUE=DATE:20240416
SUMMARY:Ausschreibung — Schulkinderbetreuung an der Sonnenrain-Schule\, Radolfzell am
DESCRIPTION:Phase: Ausschreibung | Beschreibung: Angebote werden eingeholt | Link: https://ausschreibungsradar.com/ausschreibung/0eee6353-fa55-4f33-9df8-91874cfdeb69/
URL:https://ausschreibungsradar.com/ausschreibung/0eee6353-fa55-4f33-9df8-91874cfdeb69/
END:VEVENT
BEGIN:VEVENT
UID:bd74c1da8fc03189@ausschreibungsradar.com
DTSTAMP:20260424T155404Z
DTSTART;VALUE=DATE:20240607
DTEND;VALUE=DATE:20240607
SUMMARY:Vergabeergebnis — Schulkinderbetreuung an der Sonnenrain-Schule\, Radolfzell am
DESCRIPTION:Phase: Vergabeergebnis | Beschreibung: Alle Angebote ausgeschlossen | Link: https://ausschreibungsradar.com/ausschreibung/5c6e18af-4f89-4233-aed3-2860494c8e67/
URL:https://ausschreibungsradar.com/ausschreibung/5c6e18af-4f89-4233-aed3-2860494c8e67/
END:VEVENT
BEGIN:VEVENT
UID:338c325f199927dd@ausschreibungsradar.com
DTSTAMP:20260424T155404Z
DTSTART;VALUE=DATE:20240607
DTEND;VALUE=DATE:20240607
SUMMARY:Ausschreibung — Schulkinderbetreuung an der Sonnenrain-Schule\, Radolfzell am
DESCRIPTION:Phase: Ausschreibung | Beschreibung: Offizielle Ausschreibung mit Bieterfrist. | Link: https://ausschreibungsradar.com/ausschreibung/c76eabf0-cef2-4234-899f-5194376a80b1/
URL:https://ausschreibungsradar.com/ausschreibung/c76eabf0-cef2-4234-899f-5194376a80b1/
END:VEVENT
END:VCALENDAR
