BEGIN:VCALENDAR
VERSION:2.0
PRODID:-//AusschreibungsRadar//Timeline//DE
CALSCALE:GREGORIAN
METHOD:PUBLISH
X-WR-CALNAME:Projekt Neubau Campus Sandheide  - Wärmeversorgungsanlagen (Heizung)
X-WR-TIMEZONE:Europe/Berlin
BEGIN:VEVENT
UID:a24597091d6e8bed@ausschreibungsradar.com
DTSTAMP:20260425T124303Z
DTSTART;VALUE=DATE:20231215
DTEND;VALUE=DATE:20231215
SUMMARY:Angebotsfrist — Neubau Campus Sandheide  - Wärmeversorgungsanlagen (Heizung)
DESCRIPTION:Phase: Ausschreibung | Beschreibung: Angebote werden eingeholt | Link: https://ausschreibungsradar.com/ausschreibung/5c8f825a-7358-4060-9e5f-1c8da1718647/
URL:https://ausschreibungsradar.com/ausschreibung/5c8f825a-7358-4060-9e5f-1c8da1718647/
END:VEVENT
END:VCALENDAR
