BEGIN:VCALENDAR
VERSION:2.0
PRODID:-//AusschreibungsRadar//Timeline//DE
CALSCALE:GREGORIAN
METHOD:PUBLISH
X-WR-CALNAME:Projekt Landkreis Regensburg: Berufliches Schulzentrum Regensburger 
X-WR-TIMEZONE:Europe/Berlin
BEGIN:VEVENT
UID:1a4b19b4d24bd6b7@ausschreibungsradar.com
DTSTAMP:20260425T014626Z
DTSTART;VALUE=DATE:20250701
DTEND;VALUE=DATE:20250701
SUMMARY:Angebotsfrist — Landkreis Regensburg: Berufliches Schulzentrum Regensburger 
DESCRIPTION:Phase: Ausschreibung | Beschreibung: Angebote werden eingeholt | Link: https://ausschreibungsradar.com/ausschreibung/7bc0c3a8-915d-4489-a1fa-3631f07774c7/
URL:https://ausschreibungsradar.com/ausschreibung/7bc0c3a8-915d-4489-a1fa-3631f07774c7/
END:VEVENT
BEGIN:VEVENT
UID:ad545196a9516bce@ausschreibungsradar.com
DTSTAMP:20260425T014626Z
DTSTART;VALUE=DATE:20250730
DTEND;VALUE=DATE:20250730
SUMMARY:Vergabeergebnis — Landkreis Regensburg: Berufliches Schulzentrum Regensburger 
DESCRIPTION:Phase: Vergabeergebnis | Beschreibung: Auftrag wurde zugeschlagen | Link: https://ausschreibungsradar.com/ausschreibung/5d65ddfb-4c2f-4f56-b471-fe09916da69e/
URL:https://ausschreibungsradar.com/ausschreibung/5d65ddfb-4c2f-4f56-b471-fe09916da69e/
END:VEVENT
END:VCALENDAR
