BEGIN:VCALENDAR
VERSION:2.0
PRODID:-//AusschreibungsRadar//Timeline//DE
CALSCALE:GREGORIAN
METHOD:PUBLISH
X-WR-CALNAME:Projekt Fachplanerleistung für lose Möblierung, Umzug von Bestandsmo
X-WR-TIMEZONE:Europe/Berlin
BEGIN:VEVENT
UID:7b4fd3ec62969ff9@ausschreibungsradar.com
DTSTAMP:20260424T232958Z
DTSTART;VALUE=DATE:20251009
DTEND;VALUE=DATE:20251009
SUMMARY:Ausschreibung — Fachplanerleistung für lose Möblierung\, Umzug von Bestandsmo
DESCRIPTION:Phase: Ausschreibung | Beschreibung: Offizielle Ausschreibung mit Bieterfrist. | Link: https://ausschreibungsradar.com/ausschreibung/5d8a51a0-b66e-4884-93a1-224a47e7b502/
URL:https://ausschreibungsradar.com/ausschreibung/5d8a51a0-b66e-4884-93a1-224a47e7b502/
END:VEVENT
BEGIN:VEVENT
UID:9fc17961077e5cdd@ausschreibungsradar.com
DTSTAMP:20260424T232958Z
DTSTART;VALUE=DATE:20251013
DTEND;VALUE=DATE:20251013
SUMMARY:Ausschreibung — Fachplanerleistung für lose Möblierung\, Umzug von Bestandsmo
DESCRIPTION:Phase: Ausschreibung | Beschreibung: Offizielle Ausschreibung mit Bieterfrist. | Link: https://ausschreibungsradar.com/ausschreibung/ted-669073-2025/
URL:https://ausschreibungsradar.com/ausschreibung/ted-669073-2025/
END:VEVENT
END:VCALENDAR
