BEGIN:VCALENDAR
VERSION:2.0
PRODID:-//AusschreibungsRadar//Timeline//DE
CALSCALE:GREGORIAN
METHOD:PUBLISH
X-WR-CALNAME:Projekt REZ SW 45ind JC LK Reutlingen
X-WR-TIMEZONE:Europe/Berlin
BEGIN:VEVENT
UID:1cfcf0133e62b510@ausschreibungsradar.com
DTSTAMP:20260426T021254Z
DTSTART;VALUE=DATE:20251219
DTEND;VALUE=DATE:20251219
SUMMARY:Ausschreibung — REZ SW 45ind JC LK Reutlingen
DESCRIPTION:Phase: Ausschreibung | Beschreibung: Angebote werden eingeholt | Link: https://ausschreibungsradar.com/ausschreibung/5dafdf7b-b9e3-4533-936c-21eeb07b2cd4/
URL:https://ausschreibungsradar.com/ausschreibung/5dafdf7b-b9e3-4533-936c-21eeb07b2cd4/
END:VEVENT
BEGIN:VEVENT
UID:15e358f0f32fdb90@ausschreibungsradar.com
DTSTAMP:20260426T021254Z
DTSTART;VALUE=DATE:20260310
DTEND;VALUE=DATE:20260310
SUMMARY:Vergabeergebnis — REZ SW 45ind JC LK Reutlingen
DESCRIPTION:Phase: Vergabeergebnis | Beschreibung: Auftrag wurde zugeschlagen | Link: https://ausschreibungsradar.com/ausschreibung/626883da-edc5-4b04-8a14-a810017888e2/
URL:https://ausschreibungsradar.com/ausschreibung/626883da-edc5-4b04-8a14-a810017888e2/
END:VEVENT
END:VCALENDAR
