BEGIN:VCALENDAR
VERSION:2.0
PRODID:-//AusschreibungsRadar//Timeline//DE
CALSCALE:GREGORIAN
METHOD:PUBLISH
X-WR-CALNAME:Projekt Lieferung von Weichen und Schienen
X-WR-TIMEZONE:Europe/Berlin
BEGIN:VEVENT
UID:2776ea371ad13fb8@ausschreibungsradar.com
DTSTAMP:20260424T121029Z
DTSTART;VALUE=DATE:20240305
DTEND;VALUE=DATE:20240305
SUMMARY:Angebotsfrist — Lieferung von Weichen und Schienen
DESCRIPTION:Phase: Ausschreibung | Beschreibung: Angebote werden eingeholt | Link: https://ausschreibungsradar.com/ausschreibung/6932861f-6c06-4ff8-bd3f-06a7552d5e2c/
URL:https://ausschreibungsradar.com/ausschreibung/6932861f-6c06-4ff8-bd3f-06a7552d5e2c/
END:VEVENT
BEGIN:VEVENT
UID:979bfeeb6ad90af0@ausschreibungsradar.com
DTSTAMP:20260424T121029Z
DTSTART;VALUE=DATE:20240613
DTEND;VALUE=DATE:20240613
SUMMARY:Vergabeergebnis — Lieferung von Weichen und Schienen
DESCRIPTION:Phase: Vergabeergebnis | Beschreibung: Auftrag wurde zugeschlagen | Link: https://ausschreibungsradar.com/ausschreibung/5dd60b16-8018-4c68-8ced-938f741ad7ef/
URL:https://ausschreibungsradar.com/ausschreibung/5dd60b16-8018-4c68-8ced-938f741ad7ef/
END:VEVENT
END:VCALENDAR
