BEGIN:VCALENDAR
VERSION:2.0
PRODID:-//AusschreibungsRadar//Timeline//DE
CALSCALE:GREGORIAN
METHOD:PUBLISH
X-WR-CALNAME:Projekt Stadtverwaltung Bad Homburg v. d. Höhe, Förderprojekt Starke
X-WR-TIMEZONE:Europe/Berlin
BEGIN:VEVENT
UID:fefbd0167ef004b2@ausschreibungsradar.com
DTSTAMP:20260425T220902Z
DTSTART;VALUE=DATE:20250924
DTEND;VALUE=DATE:20250924
SUMMARY:Angebotsfrist — Stadtverwaltung Bad Homburg v. d. Höhe\, Förderprojekt Starke
DESCRIPTION:Phase: Ausschreibung | Beschreibung: Angebote werden eingeholt | Link: https://ausschreibungsradar.com/ausschreibung/5e0cd29f-ee03-4ef3-8fae-02c41f84a908/
URL:https://ausschreibungsradar.com/ausschreibung/5e0cd29f-ee03-4ef3-8fae-02c41f84a908/
END:VEVENT
BEGIN:VEVENT
UID:7b9f28ff7b776113@ausschreibungsradar.com
DTSTAMP:20260425T220902Z
DTSTART;VALUE=DATE:20250818
DTEND;VALUE=DATE:20250818
SUMMARY:Ausschreibung — Stadtverwaltung Bad Homburg v. d. Höhe\, Förderprojekt Starke
DESCRIPTION:Phase: Ausschreibung | Beschreibung: Offizielle Ausschreibung mit Bieterfrist. | Link: https://ausschreibungsradar.com/ausschreibung/5aff98b2-2cc3-468c-9f7e-a387df4d8d9a/
URL:https://ausschreibungsradar.com/ausschreibung/5aff98b2-2cc3-468c-9f7e-a387df4d8d9a/
END:VEVENT
BEGIN:VEVENT
UID:bf2a77062cc659ac@ausschreibungsradar.com
DTSTAMP:20260425T220902Z
DTSTART;VALUE=DATE:20250819
DTEND;VALUE=DATE:20250819
SUMMARY:Zuschlag — Stadtverwaltung Bad Homburg v. d. Höhe\, Förderprojekt Starke
DESCRIPTION:Phase: Zuschlag | Beschreibung: Vergabeergebnis — Auftrag wurde erteilt oder Verfahren beendet. | Link: https://ausschreibungsradar.com/ausschreibung/5197e15d-b03a-4729-9dfc-c33a9b65af61/
URL:https://ausschreibungsradar.com/ausschreibung/5197e15d-b03a-4729-9dfc-c33a9b65af61/
END:VEVENT
BEGIN:VEVENT
UID:2ddd6ba766cd0af3@ausschreibungsradar.com
DTSTAMP:20260425T220902Z
DTSTART;VALUE=DATE:20251202
DTEND;VALUE=DATE:20251202
SUMMARY:Vergabeergebnis — Stadtverwaltung Bad Homburg v. d. Höhe\, Förderprojekt Starke
DESCRIPTION:Phase: Vergabeergebnis | Beschreibung: Auftrag wurde zugeschlagen | Link: https://ausschreibungsradar.com/ausschreibung/1fb7e805-7e41-4ccb-9290-e2705b92a538/
URL:https://ausschreibungsradar.com/ausschreibung/1fb7e805-7e41-4ccb-9290-e2705b92a538/
END:VEVENT
END:VCALENDAR
