BEGIN:VCALENDAR
VERSION:2.0
PRODID:-//AusschreibungsRadar//Timeline//DE
CALSCALE:GREGORIAN
METHOD:PUBLISH
X-WR-CALNAME:Projekt Bodenbelagsarbeiten - 
Erweiterung Gemeinschaftsschule Lange
X-WR-TIMEZONE:Europe/Berlin
BEGIN:VEVENT
UID:7f15199c4590f251@ausschreibungsradar.com
DTSTAMP:20260426T030142Z
DTSTART;VALUE=DATE:20250501
DTEND;VALUE=DATE:20250501
SUMMARY:Angebotsfrist — Bodenbelagsarbeiten - \nErweiterung Gemeinschaftsschule Lange
DESCRIPTION:Phase: Ausschreibung | Beschreibung: Angebote werden eingeholt | Link: https://ausschreibungsradar.com/ausschreibung/1d68a1cd-3c79-4bc6-b1a9-2b6055a2f0ca/ | Geschätzter Wert: 99580 €
URL:https://ausschreibungsradar.com/ausschreibung/1d68a1cd-3c79-4bc6-b1a9-2b6055a2f0ca/
END:VEVENT
BEGIN:VEVENT
UID:4cd5c81baa4872a1@ausschreibungsradar.com
DTSTAMP:20260426T030142Z
DTSTART;VALUE=DATE:20250612
DTEND;VALUE=DATE:20250612
SUMMARY:Vergabeergebnis — Bodenbelagsarbeiten - \nErweiterung Gemeinschaftsschule Lange
DESCRIPTION:Phase: Vergabeergebnis | Beschreibung: Auftrag wurde zugeschlagen | Link: https://ausschreibungsradar.com/ausschreibung/5e4b88e2-75e5-4852-b1c5-d252497067ef/ | Auftragnehmer: Raumstudio Falter GmbH & 
URL:https://ausschreibungsradar.com/ausschreibung/5e4b88e2-75e5-4852-b1c5-d252497067ef/
END:VEVENT
END:VCALENDAR
