BEGIN:VCALENDAR
VERSION:2.0
PRODID:-//AusschreibungsRadar//Timeline//DE
CALSCALE:GREGORIAN
METHOD:PUBLISH
X-WR-CALNAME:Projekt Schliessanlage digital
X-WR-TIMEZONE:Europe/Berlin
BEGIN:VEVENT
UID:89e81649a1a11b54@ausschreibungsradar.com
DTSTAMP:20260425T121317Z
DTSTART;VALUE=DATE:20250821
DTEND;VALUE=DATE:20250821
SUMMARY:Angebotsfrist — Schliessanlage digital
DESCRIPTION:Phase: Ausschreibung | Beschreibung: Angebote werden eingeholt | Link: https://ausschreibungsradar.com/ausschreibung/5e4be379-d7d6-4403-a492-b5cd8734da42/ | Geschätzter Wert: 42225 €
URL:https://ausschreibungsradar.com/ausschreibung/5e4be379-d7d6-4403-a492-b5cd8734da42/
END:VEVENT
END:VCALENDAR
