BEGIN:VCALENDAR
VERSION:2.0
PRODID:-//AusschreibungsRadar//Timeline//DE
CALSCALE:GREGORIAN
METHOD:PUBLISH
X-WR-CALNAME:Projekt Rahmenverträge über die Lieferung von Mittagsverpflegung in 
X-WR-TIMEZONE:Europe/Berlin
BEGIN:VEVENT
UID:304b1ebe6ed2cac2@ausschreibungsradar.com
DTSTAMP:20260424T183414Z
DTSTART;VALUE=DATE:20250328
DTEND;VALUE=DATE:20250328
SUMMARY:Ausschreibung — Rahmenverträge über die Lieferung von Mittagsverpflegung in 
DESCRIPTION:Phase: Ausschreibung | Beschreibung: Angebote werden eingeholt | Link: https://ausschreibungsradar.com/ausschreibung/5e9abbe6-3c17-486d-91e6-63c07b38be1b/
URL:https://ausschreibungsradar.com/ausschreibung/5e9abbe6-3c17-486d-91e6-63c07b38be1b/
END:VEVENT
BEGIN:VEVENT
UID:708b86c13ebbf27f@ausschreibungsradar.com
DTSTAMP:20260424T183414Z
DTSTART;VALUE=DATE:20250630
DTEND;VALUE=DATE:20250630
SUMMARY:Vergabeergebnis — Rahmenverträge über die Lieferung von Mittagsverpflegung in 
DESCRIPTION:Phase: Vergabeergebnis | Beschreibung: Auftrag wurde zugeschlagen | Link: https://ausschreibungsradar.com/ausschreibung/cc992f6b-f3f8-4e07-8944-76e5b7d9789c/
URL:https://ausschreibungsradar.com/ausschreibung/cc992f6b-f3f8-4e07-8944-76e5b7d9789c/
END:VEVENT
END:VCALENDAR
