BEGIN:VCALENDAR
VERSION:2.0
PRODID:-//AusschreibungsRadar//Timeline//DE
CALSCALE:GREGORIAN
METHOD:PUBLISH
X-WR-CALNAME:Projekt 1: Sanierung und Aufstockung in der Schumannstraße 8 (Techni
X-WR-TIMEZONE:Europe/Berlin
BEGIN:VEVENT
UID:3ee21267b8d010b9@ausschreibungsradar.com
DTSTAMP:20260425T003039Z
DTSTART;VALUE=DATE:20260326
DTEND;VALUE=DATE:20260326
SUMMARY:Angebotsfrist — 1: Sanierung und Aufstockung in der Schumannstraße 8 (Techni
DESCRIPTION:Phase: Ausschreibung | Beschreibung: Angebote werden eingeholt | Link: https://ausschreibungsradar.com/ausschreibung/5eecc397-587b-43f1-8e2e-f8caaacb1cf4/
URL:https://ausschreibungsradar.com/ausschreibung/5eecc397-587b-43f1-8e2e-f8caaacb1cf4/
END:VEVENT
BEGIN:VEVENT
UID:766117086041d509@ausschreibungsradar.com
DTSTAMP:20260425T003039Z
DTSTART;VALUE=DATE:20260219
DTEND;VALUE=DATE:20260219
SUMMARY:Ausschreibung — 1: Sanierung und Aufstockung in der Schumannstraße 8 (Techni
DESCRIPTION:Phase: Ausschreibung | Beschreibung: Offizielle Ausschreibung mit Bieterfrist. | Link: https://ausschreibungsradar.com/ausschreibung/0a849426-8836-485b-8764-1d640c51cc21/
URL:https://ausschreibungsradar.com/ausschreibung/0a849426-8836-485b-8764-1d640c51cc21/
END:VEVENT
BEGIN:VEVENT
UID:a78466020bd3c1ca@ausschreibungsradar.com
DTSTAMP:20260425T003039Z
DTSTART;VALUE=DATE:20260219
DTEND;VALUE=DATE:20260219
SUMMARY:Ausschreibung — 1: Sanierung und Aufstockung in der Schumannstraße 8 (Techni
DESCRIPTION:Phase: Ausschreibung | Beschreibung: Offizielle Ausschreibung mit Bieterfrist. | Link: https://ausschreibungsradar.com/ausschreibung/1f1b3fa2-2070-4741-aeb8-17efca2f094a/
URL:https://ausschreibungsradar.com/ausschreibung/1f1b3fa2-2070-4741-aeb8-17efca2f094a/
END:VEVENT
BEGIN:VEVENT
UID:364a8f38bd573c19@ausschreibungsradar.com
DTSTAMP:20260425T003039Z
DTSTART;VALUE=DATE:20260219
DTEND;VALUE=DATE:20260219
SUMMARY:Ausschreibung — 1: Sanierung und Aufstockung in der Schumannstraße 8 (Techni
DESCRIPTION:Phase: Ausschreibung | Beschreibung: Offizielle Ausschreibung mit Bieterfrist. | Link: https://ausschreibungsradar.com/ausschreibung/5cf23b5c-305c-4be5-b69d-2b65c3259f8f/
URL:https://ausschreibungsradar.com/ausschreibung/5cf23b5c-305c-4be5-b69d-2b65c3259f8f/
END:VEVENT
END:VCALENDAR
