BEGIN:VCALENDAR
VERSION:2.0
PRODID:-//AusschreibungsRadar//Timeline//DE
CALSCALE:GREGORIAN
METHOD:PUBLISH
X-WR-CALNAME:Projekt Öffentliches Zentrum Großschwarzenlohe - Lüftungsarbeiten
X-WR-TIMEZONE:Europe/Berlin
BEGIN:VEVENT
UID:3e992ec422583ea9@ausschreibungsradar.com
DTSTAMP:20260424T124626Z
DTSTART;VALUE=DATE:20250206
DTEND;VALUE=DATE:20250206
SUMMARY:Ausschreibung — Öffentliches Zentrum Großschwarzenlohe - Lüftungsarbeiten
DESCRIPTION:Phase: Ausschreibung | Beschreibung: Offizielle Ausschreibung mit Bieterfrist. | Link: https://ausschreibungsradar.com/ausschreibung/1b5dd7c2-193c-4fb0-afcc-c635eaa185fe/
URL:https://ausschreibungsradar.com/ausschreibung/1b5dd7c2-193c-4fb0-afcc-c635eaa185fe/
END:VEVENT
BEGIN:VEVENT
UID:d5f6f13657d22983@ausschreibungsradar.com
DTSTAMP:20260424T124626Z
DTSTART;VALUE=DATE:20250318
DTEND;VALUE=DATE:20250318
SUMMARY:Angebotsfrist — Öffentliches Zentrum Großschwarzenlohe - Lüftungsarbeiten
DESCRIPTION:Phase: Ausschreibung | Beschreibung: Angebote werden eingeholt | Link: https://ausschreibungsradar.com/ausschreibung/5f0197a9-d009-4ca4-9c74-455e38be7735/ | Geschätzter Wert: 319617 €
URL:https://ausschreibungsradar.com/ausschreibung/5f0197a9-d009-4ca4-9c74-455e38be7735/
END:VEVENT
BEGIN:VEVENT
UID:4f18c2ac7c9ca323@ausschreibungsradar.com
DTSTAMP:20260424T124626Z
DTSTART;VALUE=DATE:20250217
DTEND;VALUE=DATE:20250217
SUMMARY:Ausschreibung — Öffentliches Zentrum Großschwarzenlohe - Lüftungsarbeiten
DESCRIPTION:Phase: Ausschreibung | Beschreibung: Offizielle Ausschreibung mit Bieterfrist. | Link: https://ausschreibungsradar.com/ausschreibung/cf4353b8-a1cf-479e-a406-4e7af133d5f4/
URL:https://ausschreibungsradar.com/ausschreibung/cf4353b8-a1cf-479e-a406-4e7af133d5f4/
END:VEVENT
BEGIN:VEVENT
UID:59933bc3ed836d1e@ausschreibungsradar.com
DTSTAMP:20260424T124626Z
DTSTART;VALUE=DATE:20250312
DTEND;VALUE=DATE:20250312
SUMMARY:Ausschreibung — Öffentliches Zentrum Großschwarzenlohe - Lüftungsarbeiten
DESCRIPTION:Phase: Ausschreibung | Beschreibung: Offizielle Ausschreibung mit Bieterfrist. | Link: https://ausschreibungsradar.com/ausschreibung/031f0d65-727f-4c7f-84d8-170683eb27e2/
URL:https://ausschreibungsradar.com/ausschreibung/031f0d65-727f-4c7f-84d8-170683eb27e2/
END:VEVENT
BEGIN:VEVENT
UID:ae355bbe5b1d6270@ausschreibungsradar.com
DTSTAMP:20260424T124626Z
DTSTART;VALUE=DATE:20250423
DTEND;VALUE=DATE:20250423
SUMMARY:Vergabeergebnis — Öffentliches Zentrum Großschwarzenlohe - Lüftungsarbeiten
DESCRIPTION:Phase: Vergabeergebnis | Beschreibung: Auftrag wurde zugeschlagen | Link: https://ausschreibungsradar.com/ausschreibung/a31e83dd-467d-4ecc-9545-44830345c399/
URL:https://ausschreibungsradar.com/ausschreibung/a31e83dd-467d-4ecc-9545-44830345c399/
END:VEVENT
END:VCALENDAR
