BEGIN:VCALENDAR
VERSION:2.0
PRODID:-//AusschreibungsRadar//Timeline//DE
CALSCALE:GREGORIAN
METHOD:PUBLISH
X-WR-CALNAME:Projekt Fachplanung SHL_GA für ein Gebäude mit Nutzungen aus dem Ges
X-WR-TIMEZONE:Europe/Berlin
BEGIN:VEVENT
UID:7ad01e7edb638fb5@ausschreibungsradar.com
DTSTAMP:20260425T234752Z
DTSTART;VALUE=DATE:20250225
DTEND;VALUE=DATE:20250225
SUMMARY:Ausschreibung — Fachplanung SHL_GA für ein Gebäude mit Nutzungen aus dem Ges
DESCRIPTION:Phase: Ausschreibung | Beschreibung: Offizielle Ausschreibung mit Bieterfrist. | Link: https://ausschreibungsradar.com/ausschreibung/2001ec3e-2540-42ad-a218-e18f8b5b3030/
URL:https://ausschreibungsradar.com/ausschreibung/2001ec3e-2540-42ad-a218-e18f8b5b3030/
END:VEVENT
BEGIN:VEVENT
UID:fa001f3da42d3f11@ausschreibungsradar.com
DTSTAMP:20260425T234752Z
DTSTART;VALUE=DATE:20250226
DTEND;VALUE=DATE:20250226
SUMMARY:Ausschreibung — Fachplanung SHL_GA für ein Gebäude mit Nutzungen aus dem Ges
DESCRIPTION:Phase: Ausschreibung | Beschreibung: Angebote werden eingeholt | Link: https://ausschreibungsradar.com/ausschreibung/5f5233f1-af45-46b9-8d7c-610b95e3ce83/ | Geschätzter Wert: 220000 €
URL:https://ausschreibungsradar.com/ausschreibung/5f5233f1-af45-46b9-8d7c-610b95e3ce83/
END:VEVENT
BEGIN:VEVENT
UID:6da500cd65c82068@ausschreibungsradar.com
DTSTAMP:20260425T234752Z
DTSTART;VALUE=DATE:20250226
DTEND;VALUE=DATE:20250226
SUMMARY:Ausschreibung — Fachplanung SHL_GA für ein Gebäude mit Nutzungen aus dem Ges
DESCRIPTION:Phase: Ausschreibung | Beschreibung: Offizielle Ausschreibung mit Bieterfrist. | Link: https://ausschreibungsradar.com/ausschreibung/a1c4514c-48be-4704-89ac-c959952f9bc5/
URL:https://ausschreibungsradar.com/ausschreibung/a1c4514c-48be-4704-89ac-c959952f9bc5/
END:VEVENT
END:VCALENDAR
