BEGIN:VCALENDAR
VERSION:2.0
PRODID:-//AusschreibungsRadar//Timeline//DE
CALSCALE:GREGORIAN
METHOD:PUBLISH
X-WR-CALNAME:Projekt Pausenverkauf und Mittagsverpflegung am Deutsch-Luxemburgisc
X-WR-TIMEZONE:Europe/Berlin
BEGIN:VEVENT
UID:5f96ec0bb2ee271a@ausschreibungsradar.com
DTSTAMP:20260425T125933Z
DTSTART;VALUE=DATE:20241128
DTEND;VALUE=DATE:20241128
SUMMARY:Ausschreibung — Pausenverkauf und Mittagsverpflegung am Deutsch-Luxemburgisc
DESCRIPTION:Phase: Ausschreibung | Beschreibung: Angebote werden eingeholt | Link: https://ausschreibungsradar.com/ausschreibung/371183ef-ef94-4234-bb94-5f4eb4515ba2/
URL:https://ausschreibungsradar.com/ausschreibung/371183ef-ef94-4234-bb94-5f4eb4515ba2/
END:VEVENT
BEGIN:VEVENT
UID:eb3cdaf367199e85@ausschreibungsradar.com
DTSTAMP:20260425T125933Z
DTSTART;VALUE=DATE:20241128
DTEND;VALUE=DATE:20241128
SUMMARY:Ausschreibung — Pausenverkauf und Mittagsverpflegung am Deutsch-Luxemburgisc
DESCRIPTION:Phase: Ausschreibung | Beschreibung: Offizielle Ausschreibung mit Bieterfrist. | Link: https://ausschreibungsradar.com/ausschreibung/ad084049-2004-4f97-8438-aabab30c5c54/
URL:https://ausschreibungsradar.com/ausschreibung/ad084049-2004-4f97-8438-aabab30c5c54/
END:VEVENT
BEGIN:VEVENT
UID:94b1a3d6875927e5@ausschreibungsradar.com
DTSTAMP:20260425T125933Z
DTSTART;VALUE=DATE:20241128
DTEND;VALUE=DATE:20241128
SUMMARY:Ausschreibung — Pausenverkauf und Mittagsverpflegung am Deutsch-Luxemburgisc
DESCRIPTION:Phase: Ausschreibung | Beschreibung: Offizielle Ausschreibung mit Bieterfrist. | Link: https://ausschreibungsradar.com/ausschreibung/830dbdcd-17ec-437f-aa39-e0837d08a595/
URL:https://ausschreibungsradar.com/ausschreibung/830dbdcd-17ec-437f-aa39-e0837d08a595/
END:VEVENT
BEGIN:VEVENT
UID:be0ebab656268fb2@ausschreibungsradar.com
DTSTAMP:20260425T125933Z
DTSTART;VALUE=DATE:20250305
DTEND;VALUE=DATE:20250305
SUMMARY:Vergabeergebnis — Pausenverkauf und Mittagsverpflegung am Deutsch-Luxemburgisc
DESCRIPTION:Phase: Vergabeergebnis | Beschreibung: Auftrag wurde zugeschlagen | Link: https://ausschreibungsradar.com/ausschreibung/5f5a4498-d8d6-4d5f-8455-d6e6546e5991/
URL:https://ausschreibungsradar.com/ausschreibung/5f5a4498-d8d6-4d5f-8455-d6e6546e5991/
END:VEVENT
END:VCALENDAR
