BEGIN:VCALENDAR
VERSION:2.0
PRODID:-//AusschreibungsRadar//Timeline//DE
CALSCALE:GREGORIAN
METHOD:PUBLISH
X-WR-CALNAME:Projekt Herstellung und Lieferung von batterieelektrischen Niederflu
X-WR-TIMEZONE:Europe/Berlin
BEGIN:VEVENT
UID:40f8d90b6df7cc81@ausschreibungsradar.com
DTSTAMP:20260425T035055Z
DTSTART;VALUE=DATE:20250706
DTEND;VALUE=DATE:20250706
SUMMARY:Ausschreibung — Herstellung und Lieferung von batterieelektrischen Niederflu
DESCRIPTION:Phase: Ausschreibung | Beschreibung: Angebote werden eingeholt | Link: https://ausschreibungsradar.com/ausschreibung/5f7b1e4f-ba6e-4920-969c-45d8a55e2baa/
URL:https://ausschreibungsradar.com/ausschreibung/5f7b1e4f-ba6e-4920-969c-45d8a55e2baa/
END:VEVENT
BEGIN:VEVENT
UID:643e3d637e63689b@ausschreibungsradar.com
DTSTAMP:20260425T035055Z
DTSTART;VALUE=DATE:20260228
DTEND;VALUE=DATE:20260228
SUMMARY:Vergabeergebnis — Herstellung und Lieferung von batterieelektrischen Niederflu
DESCRIPTION:Phase: Vergabeergebnis | Beschreibung: Auftrag wurde zugeschlagen | Link: https://ausschreibungsradar.com/ausschreibung/e636e240-a98d-49ca-9435-a49eecbdd6b4/
URL:https://ausschreibungsradar.com/ausschreibung/e636e240-a98d-49ca-9435-a49eecbdd6b4/
END:VEVENT
END:VCALENDAR
