BEGIN:VCALENDAR
VERSION:2.0
PRODID:-//AusschreibungsRadar//Timeline//DE
CALSCALE:GREGORIAN
METHOD:PUBLISH
X-WR-CALNAME:Projekt Tourismus Marketing GmbH Baden-Württemberg - Vergabe eines R
X-WR-TIMEZONE:Europe/Berlin
BEGIN:VEVENT
UID:8793a76dd504cf58@ausschreibungsradar.com
DTSTAMP:20260425T115337Z
DTSTART;VALUE=DATE:20250605
DTEND;VALUE=DATE:20250605
SUMMARY:Ausschreibung — Tourismus Marketing GmbH Baden-Württemberg - Vergabe eines R
DESCRIPTION:Phase: Ausschreibung | Beschreibung: Angebote werden eingeholt | Link: https://ausschreibungsradar.com/ausschreibung/a415c95a-1622-4def-abfc-aac7d7da27a5/
URL:https://ausschreibungsradar.com/ausschreibung/a415c95a-1622-4def-abfc-aac7d7da27a5/
END:VEVENT
BEGIN:VEVENT
UID:203baeb759219a15@ausschreibungsradar.com
DTSTAMP:20260425T115337Z
DTSTART;VALUE=DATE:20250922
DTEND;VALUE=DATE:20250922
SUMMARY:Zuschlag — Tourismus Marketing GmbH Baden-Württemberg - Vergabe eines R
DESCRIPTION:Phase: Zuschlag | Beschreibung: Vergabeergebnis — Auftrag wurde erteilt oder Verfahren beendet. | Link: https://ausschreibungsradar.com/ausschreibung/080c561f-b2e3-492b-852e-e1ad1b579d6f/
URL:https://ausschreibungsradar.com/ausschreibung/080c561f-b2e3-492b-852e-e1ad1b579d6f/
END:VEVENT
BEGIN:VEVENT
UID:053fc190b5c1d338@ausschreibungsradar.com
DTSTAMP:20260425T115337Z
DTSTART;VALUE=DATE:20251013
DTEND;VALUE=DATE:20251013
SUMMARY:Vergabeergebnis — Tourismus Marketing GmbH Baden-Württemberg - Vergabe eines R
DESCRIPTION:Phase: Vergabeergebnis | Beschreibung: Auftrag wurde zugeschlagen | Link: https://ausschreibungsradar.com/ausschreibung/5f8bd1a5-a039-4b4d-87c9-7d24c05c92b5/
URL:https://ausschreibungsradar.com/ausschreibung/5f8bd1a5-a039-4b4d-87c9-7d24c05c92b5/
END:VEVENT
END:VCALENDAR
