BEGIN:VCALENDAR
VERSION:2.0
PRODID:-//AusschreibungsRadar//Timeline//DE
CALSCALE:GREGORIAN
METHOD:PUBLISH
X-WR-CALNAME:Projekt Beschaffung von Hypervisor-Servern, Netzwerk-Speicher und Sw
X-WR-TIMEZONE:Europe/Berlin
BEGIN:VEVENT
UID:6dfaf61e176d16be@ausschreibungsradar.com
DTSTAMP:20260426T021120Z
DTSTART;VALUE=DATE:20241008
DTEND;VALUE=DATE:20241008
SUMMARY:Angebotsfrist — Beschaffung von Hypervisor-Servern\, Netzwerk-Speicher und Sw
DESCRIPTION:Phase: Ausschreibung | Beschreibung: Angebote werden eingeholt | Link: https://ausschreibungsradar.com/ausschreibung/9099940a-568f-4c50-be47-200e5c1100e4/
URL:https://ausschreibungsradar.com/ausschreibung/9099940a-568f-4c50-be47-200e5c1100e4/
END:VEVENT
BEGIN:VEVENT
UID:21de35c06ff9eb69@ausschreibungsradar.com
DTSTAMP:20260426T021120Z
DTSTART;VALUE=DATE:20241021
DTEND;VALUE=DATE:20241021
SUMMARY:Vergabeergebnis — Beschaffung von Hypervisor-Servern\, Netzwerk-Speicher und Sw
DESCRIPTION:Phase: Vergabeergebnis | Beschreibung: Auftrag wurde zugeschlagen | Link: https://ausschreibungsradar.com/ausschreibung/6038fa5a-4528-423a-b341-a3736da8845f/
URL:https://ausschreibungsradar.com/ausschreibung/6038fa5a-4528-423a-b341-a3736da8845f/
END:VEVENT
END:VCALENDAR
