BEGIN:VCALENDAR
VERSION:2.0
PRODID:-//AusschreibungsRadar//Timeline//DE
CALSCALE:GREGORIAN
METHOD:PUBLISH
X-WR-CALNAME:Projekt Ausschreibung zur Wartung und Betreuung der IT-Systemumgebun
X-WR-TIMEZONE:Europe/Berlin
BEGIN:VEVENT
UID:aedb3eefa9ab9598@ausschreibungsradar.com
DTSTAMP:20260424T184443Z
DTSTART;VALUE=DATE:20250306
DTEND;VALUE=DATE:20250306
SUMMARY:Angebotsfrist — Ausschreibung zur Wartung und Betreuung der IT-Systemumgebun
DESCRIPTION:Phase: Ausschreibung | Beschreibung: Angebote werden eingeholt | Link: https://ausschreibungsradar.com/ausschreibung/6085e03b-60dd-46d5-9c09-d6ec3b128128/
URL:https://ausschreibungsradar.com/ausschreibung/6085e03b-60dd-46d5-9c09-d6ec3b128128/
END:VEVENT
BEGIN:VEVENT
UID:61d2ab2ce654f7cd@ausschreibungsradar.com
DTSTAMP:20260424T184443Z
DTSTART;VALUE=DATE:20250128
DTEND;VALUE=DATE:20250128
SUMMARY:Ausschreibung — Ausschreibung zur Wartung und Betreuung der IT-Systemumgebun
DESCRIPTION:Phase: Ausschreibung | Beschreibung: Offizielle Ausschreibung mit Bieterfrist. | Link: https://ausschreibungsradar.com/ausschreibung/1ad80ae3-b934-4a09-93b7-f03497ce0dff/
URL:https://ausschreibungsradar.com/ausschreibung/1ad80ae3-b934-4a09-93b7-f03497ce0dff/
END:VEVENT
BEGIN:VEVENT
UID:03bcecc393b83f2f@ausschreibungsradar.com
DTSTAMP:20260424T184443Z
DTSTART;VALUE=DATE:20250417
DTEND;VALUE=DATE:20250417
SUMMARY:Vergabeergebnis — Ausschreibung zur Wartung und Betreuung der IT-Systemumgebun
DESCRIPTION:Phase: Vergabeergebnis | Beschreibung: Auftrag wurde zugeschlagen | Link: https://ausschreibungsradar.com/ausschreibung/75bca581-9a98-4979-bcf5-ae36456aaaf1/ | Auftragnehmer: SPS Informationstechnolog
URL:https://ausschreibungsradar.com/ausschreibung/75bca581-9a98-4979-bcf5-ae36456aaaf1/
END:VEVENT
END:VCALENDAR
