BEGIN:VCALENDAR
VERSION:2.0
PRODID:-//AusschreibungsRadar//Timeline//DE
CALSCALE:GREGORIAN
METHOD:PUBLISH
X-WR-CALNAME:Projekt VE 84 - Erneuerung Decke Kantine, Rathaus (Stadthaus) Komple
X-WR-TIMEZONE:Europe/Berlin
BEGIN:VEVENT
UID:6bf2a4ae1113727b@ausschreibungsradar.com
DTSTAMP:20260424T160313Z
DTSTART;VALUE=DATE:20251218
DTEND;VALUE=DATE:20251218
SUMMARY:Angebotsfrist — VE 84 - Erneuerung Decke Kantine\, Rathaus (Stadthaus) Komple
DESCRIPTION:Phase: Ausschreibung | Beschreibung: Angebote werden eingeholt | Link: https://ausschreibungsradar.com/ausschreibung/6137e37e-0e04-4570-8669-ade1fe209bb3/
URL:https://ausschreibungsradar.com/ausschreibung/6137e37e-0e04-4570-8669-ade1fe209bb3/
END:VEVENT
BEGIN:VEVENT
UID:29039a3f83e080bb@ausschreibungsradar.com
DTSTAMP:20260424T160313Z
DTSTART;VALUE=DATE:20260203
DTEND;VALUE=DATE:20260203
SUMMARY:Vergabeergebnis — VE 84 - Erneuerung Decke Kantine\, Rathaus (Stadthaus) Komple
DESCRIPTION:Phase: Vergabeergebnis | Beschreibung: Auftrag wurde zugeschlagen | Link: https://ausschreibungsradar.com/ausschreibung/5bda2a65-073e-4511-a894-0b67b94e4910/
URL:https://ausschreibungsradar.com/ausschreibung/5bda2a65-073e-4511-a894-0b67b94e4910/
END:VEVENT
END:VCALENDAR
