BEGIN:VCALENDAR
VERSION:2.0
PRODID:-//AusschreibungsRadar//Timeline//DE
CALSCALE:GREGORIAN
METHOD:PUBLISH
X-WR-CALNAME:Projekt Planungs- und Baumanagementleistungen für Technische Ausrüst
X-WR-TIMEZONE:Europe/Berlin
BEGIN:VEVENT
UID:ee855bbedfb0c880@ausschreibungsradar.com
DTSTAMP:20260425T215220Z
DTSTART;VALUE=DATE:20250819
DTEND;VALUE=DATE:20250819
SUMMARY:Ausschreibung — Planungs- und Baumanagementleistungen für Technische Ausrüst
DESCRIPTION:Phase: Ausschreibung | Beschreibung: Offizielle Ausschreibung mit Bieterfrist. | Link: https://ausschreibungsradar.com/ausschreibung/e28d27f3-df65-47ee-acbe-44e936dcb212/
URL:https://ausschreibungsradar.com/ausschreibung/e28d27f3-df65-47ee-acbe-44e936dcb212/
END:VEVENT
BEGIN:VEVENT
UID:536ef269443b1241@ausschreibungsradar.com
DTSTAMP:20260425T215220Z
DTSTART;VALUE=DATE:20250923
DTEND;VALUE=DATE:20250923
SUMMARY:Angebotsfrist — Planungs- und Baumanagementleistungen für Technische Ausrüst
DESCRIPTION:Phase: Ausschreibung | Beschreibung: Angebote werden eingeholt | Link: https://ausschreibungsradar.com/ausschreibung/614f797d-1190-4483-9ac4-2dea18d373dc/
URL:https://ausschreibungsradar.com/ausschreibung/614f797d-1190-4483-9ac4-2dea18d373dc/
END:VEVENT
BEGIN:VEVENT
UID:46d93b1477ca769e@ausschreibungsradar.com
DTSTAMP:20260425T215220Z
DTSTART;VALUE=DATE:20250821
DTEND;VALUE=DATE:20250821
SUMMARY:Zuschlag — Planungs- und Baumanagementleistungen für Technische Ausrüst
DESCRIPTION:Phase: Zuschlag | Beschreibung: Vergabeergebnis — Auftrag wurde erteilt oder Verfahren beendet. | Link: https://ausschreibungsradar.com/ausschreibung/f0bb2172-ab1f-4f9f-bc44-e149312cb59f/
URL:https://ausschreibungsradar.com/ausschreibung/f0bb2172-ab1f-4f9f-bc44-e149312cb59f/
END:VEVENT
BEGIN:VEVENT
UID:b0c29dd192ea2ad3@ausschreibungsradar.com
DTSTAMP:20260425T215220Z
DTSTART;VALUE=DATE:20260109
DTEND;VALUE=DATE:20260109
SUMMARY:Vergabeergebnis — Planungs- und Baumanagementleistungen für Technische Ausrüst
DESCRIPTION:Phase: Vergabeergebnis | Beschreibung: Auftrag wurde zugeschlagen | Link: https://ausschreibungsradar.com/ausschreibung/dd1c541a-3e4e-44b3-94fe-6224de55e7a3/ | Auftragnehmer: HDH Nürnberg GmbH
URL:https://ausschreibungsradar.com/ausschreibung/dd1c541a-3e4e-44b3-94fe-6224de55e7a3/
END:VEVENT
END:VCALENDAR
