BEGIN:VCALENDAR
VERSION:2.0
PRODID:-//AusschreibungsRadar//Timeline//DE
CALSCALE:GREGORIAN
METHOD:PUBLISH
X-WR-CALNAME:Projekt Erneuerung der TW-Leitung Stadt Kemberg, OT Bergwitz - TO: W
X-WR-TIMEZONE:Europe/Berlin
BEGIN:VEVENT
UID:dd6cef0b453bf606@ausschreibungsradar.com
DTSTAMP:20260426T004336Z
DTSTART;VALUE=DATE:20250819
DTEND;VALUE=DATE:20250819
SUMMARY:Angebotsfrist — Erneuerung der TW-Leitung Stadt Kemberg\, OT Bergwitz - TO: W
DESCRIPTION:Phase: Ausschreibung | Beschreibung: Angebote werden eingeholt | Link: https://ausschreibungsradar.com/ausschreibung/616942f2-c26e-447e-a67a-538b4fe21bf1/
URL:https://ausschreibungsradar.com/ausschreibung/616942f2-c26e-447e-a67a-538b4fe21bf1/
END:VEVENT
END:VCALENDAR
