BEGIN:VCALENDAR
VERSION:2.0
PRODID:-//AusschreibungsRadar//Timeline//DE
CALSCALE:GREGORIAN
METHOD:PUBLISH
X-WR-CALNAME:Projekt Leerung Abfallbehälter und Abfallsammlung - Los 3
X-WR-TIMEZONE:Europe/Berlin
BEGIN:VEVENT
UID:731ceac6644b7e84@ausschreibungsradar.com
DTSTAMP:20260425T184714Z
DTSTART;VALUE=DATE:20260310
DTEND;VALUE=DATE:20260310
SUMMARY:Angebotsfrist — Leerung Abfallbehälter und Abfallsammlung - Los 3
DESCRIPTION:Phase: Ausschreibung | Beschreibung: Angebote werden eingeholt | Link: https://ausschreibungsradar.com/ausschreibung/61792e4c-c31f-4d5d-ad5f-5422cca1f83d/
URL:https://ausschreibungsradar.com/ausschreibung/61792e4c-c31f-4d5d-ad5f-5422cca1f83d/
END:VEVENT
BEGIN:VEVENT
UID:ff17239a7cca7086@ausschreibungsradar.com
DTSTAMP:20260425T184714Z
DTSTART;VALUE=DATE:20260206
DTEND;VALUE=DATE:20260206
SUMMARY:Ausschreibung — Leerung Abfallbehälter und Abfallsammlung - Los 3
DESCRIPTION:Phase: Ausschreibung | Beschreibung: Offizielle Ausschreibung mit Bieterfrist. | Link: https://ausschreibungsradar.com/ausschreibung/04cee1bb-293e-41e9-af7b-f121db185b6c/
URL:https://ausschreibungsradar.com/ausschreibung/04cee1bb-293e-41e9-af7b-f121db185b6c/
END:VEVENT
BEGIN:VEVENT
UID:26db3dd4775800ee@ausschreibungsradar.com
DTSTAMP:20260425T184714Z
DTSTART;VALUE=DATE:20260327
DTEND;VALUE=DATE:20260327
SUMMARY:Vergabeergebnis — Leerung Abfallbehälter und Abfallsammlung - Los 3
DESCRIPTION:Phase: Vergabeergebnis | Beschreibung: Sonstige Gründe | Link: https://ausschreibungsradar.com/ausschreibung/e2267dc7-b9e0-4602-aa10-ee54ea7fdd1d/
URL:https://ausschreibungsradar.com/ausschreibung/e2267dc7-b9e0-4602-aa10-ee54ea7fdd1d/
END:VEVENT
END:VCALENDAR
