BEGIN:VCALENDAR
VERSION:2.0
PRODID:-//AusschreibungsRadar//Timeline//DE
CALSCALE:GREGORIAN
METHOD:PUBLISH
X-WR-CALNAME:Projekt TGA-Elektro: Ausbau Ganztag an Ludwigsburger Grundschulen, E
X-WR-TIMEZONE:Europe/Berlin
BEGIN:VEVENT
UID:09dbec65d1b8a42a@ausschreibungsradar.com
DTSTAMP:20260425T204904Z
DTSTART;VALUE=DATE:20240715
DTEND;VALUE=DATE:20240715
SUMMARY:Ausschreibung — TGA-Elektro: Ausbau Ganztag an Ludwigsburger Grundschulen\, E
DESCRIPTION:Phase: Ausschreibung | Beschreibung: Angebote werden eingeholt | Link: https://ausschreibungsradar.com/ausschreibung/6179b5fd-a24b-4f41-afcf-98d3aab3252c/ | Geschätzter Wert: 123100 €
URL:https://ausschreibungsradar.com/ausschreibung/6179b5fd-a24b-4f41-afcf-98d3aab3252c/
END:VEVENT
BEGIN:VEVENT
UID:0c00c1a0aa78af94@ausschreibungsradar.com
DTSTAMP:20260425T204904Z
DTSTART;VALUE=DATE:20240715
DTEND;VALUE=DATE:20240715
SUMMARY:Ausschreibung — TGA-Elektro: Ausbau Ganztag an Ludwigsburger Grundschulen\, E
DESCRIPTION:Phase: Ausschreibung | Beschreibung: Offizielle Ausschreibung mit Bieterfrist. | Link: https://ausschreibungsradar.com/ausschreibung/1154046a-eef4-411a-a9ca-be4e356ed241/
URL:https://ausschreibungsradar.com/ausschreibung/1154046a-eef4-411a-a9ca-be4e356ed241/
END:VEVENT
BEGIN:VEVENT
UID:18185592556104d3@ausschreibungsradar.com
DTSTAMP:20260425T204904Z
DTSTART;VALUE=DATE:20250120
DTEND;VALUE=DATE:20250120
SUMMARY:Vergabeergebnis — TGA-Elektro: Ausbau Ganztag an Ludwigsburger Grundschulen\, E
DESCRIPTION:Phase: Vergabeergebnis | Beschreibung: Auftrag wurde zugeschlagen | Link: https://ausschreibungsradar.com/ausschreibung/19660057-fe45-4ecb-a9b0-a8915a5bdc23/ | Geschätzter Wert: 123100 €
URL:https://ausschreibungsradar.com/ausschreibung/19660057-fe45-4ecb-a9b0-a8915a5bdc23/
END:VEVENT
END:VCALENDAR
