BEGIN:VCALENDAR
VERSION:2.0
PRODID:-//AusschreibungsRadar//Timeline//DE
CALSCALE:GREGORIAN
METHOD:PUBLISH
X-WR-CALNAME:Projekt RV Ingenieurleistungen TGA Lose 1 - 3
X-WR-TIMEZONE:Europe/Berlin
BEGIN:VEVENT
UID:20200bf265ce44d4@ausschreibungsradar.com
DTSTAMP:20260424T054745Z
DTSTART;VALUE=DATE:20250319
DTEND;VALUE=DATE:20250319
SUMMARY:Angebotsfrist — RV Ingenieurleistungen TGA Lose 1 - 3
DESCRIPTION:Phase: Ausschreibung | Beschreibung: Angebote werden eingeholt | Link: https://ausschreibungsradar.com/ausschreibung/61806fd8-7e46-4404-ad4b-2b509c7ac0eb/
URL:https://ausschreibungsradar.com/ausschreibung/61806fd8-7e46-4404-ad4b-2b509c7ac0eb/
END:VEVENT
BEGIN:VEVENT
UID:67a2372452659278@ausschreibungsradar.com
DTSTAMP:20260424T054745Z
DTSTART;VALUE=DATE:20250109
DTEND;VALUE=DATE:20250109
SUMMARY:Ausschreibung — RV Ingenieurleistungen TGA Lose 1 - 3
DESCRIPTION:Phase: Ausschreibung | Beschreibung: Offizielle Ausschreibung mit Bieterfrist. | Link: https://ausschreibungsradar.com/ausschreibung/a91239d8-50a6-47c5-bba9-5bac4a95d5d4/
URL:https://ausschreibungsradar.com/ausschreibung/a91239d8-50a6-47c5-bba9-5bac4a95d5d4/
END:VEVENT
BEGIN:VEVENT
UID:654220511042dbb5@ausschreibungsradar.com
DTSTAMP:20260424T054745Z
DTSTART;VALUE=DATE:20250109
DTEND;VALUE=DATE:20250109
SUMMARY:Ausschreibung — RV Ingenieurleistungen TGA Lose 1 - 3
DESCRIPTION:Phase: Ausschreibung | Beschreibung: Offizielle Ausschreibung mit Bieterfrist. | Link: https://ausschreibungsradar.com/ausschreibung/5203f440-d7a9-461f-bcf1-4db9336389f5/
URL:https://ausschreibungsradar.com/ausschreibung/5203f440-d7a9-461f-bcf1-4db9336389f5/
END:VEVENT
BEGIN:VEVENT
UID:f34407a1baffa5f4@ausschreibungsradar.com
DTSTAMP:20260424T054745Z
DTSTART;VALUE=DATE:20250109
DTEND;VALUE=DATE:20250109
SUMMARY:Ausschreibung — RV Ingenieurleistungen TGA Lose 1 - 3
DESCRIPTION:Phase: Ausschreibung | Beschreibung: Offizielle Ausschreibung mit Bieterfrist. | Link: https://ausschreibungsradar.com/ausschreibung/39469e14-7f18-4ea6-baba-59fb5ef7f737/
URL:https://ausschreibungsradar.com/ausschreibung/39469e14-7f18-4ea6-baba-59fb5ef7f737/
END:VEVENT
BEGIN:VEVENT
UID:09c96b832577fe6b@ausschreibungsradar.com
DTSTAMP:20260424T054745Z
DTSTART;VALUE=DATE:20250109
DTEND;VALUE=DATE:20250109
SUMMARY:Ausschreibung — RV Ingenieurleistungen TGA Lose 1 - 3
DESCRIPTION:Phase: Ausschreibung | Beschreibung: Offizielle Ausschreibung mit Bieterfrist. | Link: https://ausschreibungsradar.com/ausschreibung/1ad8e246-5093-4fce-b5c5-68eda16e455f/
URL:https://ausschreibungsradar.com/ausschreibung/1ad8e246-5093-4fce-b5c5-68eda16e455f/
END:VEVENT
BEGIN:VEVENT
UID:9f3e3324f727df0d@ausschreibungsradar.com
DTSTAMP:20260424T054745Z
DTSTART;VALUE=DATE:20250109
DTEND;VALUE=DATE:20250109
SUMMARY:Ausschreibung — RV Ingenieurleistungen TGA Lose 1 - 3
DESCRIPTION:Phase: Ausschreibung | Beschreibung: Offizielle Ausschreibung mit Bieterfrist. | Link: https://ausschreibungsradar.com/ausschreibung/6cc7bc2e-04d1-466f-9215-6ca82d33052f/
URL:https://ausschreibungsradar.com/ausschreibung/6cc7bc2e-04d1-466f-9215-6ca82d33052f/
END:VEVENT
END:VCALENDAR
