BEGIN:VCALENDAR
VERSION:2.0
PRODID:-//AusschreibungsRadar//Timeline//DE
CALSCALE:GREGORIAN
METHOD:PUBLISH
X-WR-CALNAME:Projekt Ausschreibung Versicherungsdienstleistungen
X-WR-TIMEZONE:Europe/Berlin
BEGIN:VEVENT
UID:22108000269e0fac@ausschreibungsradar.com
DTSTAMP:20260425T143547Z
DTSTART;VALUE=DATE:20250807
DTEND;VALUE=DATE:20250807
SUMMARY:Ausschreibung — Ausschreibung Versicherungsdienstleistungen
DESCRIPTION:Phase: Ausschreibung | Beschreibung: Angebote werden eingeholt | Link: https://ausschreibungsradar.com/ausschreibung/61850464-8d21-4e84-8e34-267f3dffb8e9/
URL:https://ausschreibungsradar.com/ausschreibung/61850464-8d21-4e84-8e34-267f3dffb8e9/
END:VEVENT
BEGIN:VEVENT
UID:5943fefb43c03429@ausschreibungsradar.com
DTSTAMP:20260425T143547Z
DTSTART;VALUE=DATE:20250807
DTEND;VALUE=DATE:20250807
SUMMARY:Ausschreibung — Ausschreibung Versicherungsdienstleistungen
DESCRIPTION:Phase: Ausschreibung | Beschreibung: Offizielle Ausschreibung mit Bieterfrist. | Link: https://ausschreibungsradar.com/ausschreibung/f9b177bc-665c-4bb4-92fb-94a15ea1fda9/
URL:https://ausschreibungsradar.com/ausschreibung/f9b177bc-665c-4bb4-92fb-94a15ea1fda9/
END:VEVENT
BEGIN:VEVENT
UID:0aea8fa849e5724e@ausschreibungsradar.com
DTSTAMP:20260425T143547Z
DTSTART;VALUE=DATE:20251007
DTEND;VALUE=DATE:20251007
SUMMARY:Vergabeergebnis — Ausschreibung Versicherungsdienstleistungen
DESCRIPTION:Phase: Vergabeergebnis | Beschreibung: Auftrag wurde zugeschlagen | Link: https://ausschreibungsradar.com/ausschreibung/cd680d7f-032f-4492-9b65-97e939c590a4/ | Auftragnehmer: VGH Versicherungen\, Land
URL:https://ausschreibungsradar.com/ausschreibung/cd680d7f-032f-4492-9b65-97e939c590a4/
END:VEVENT
END:VCALENDAR
