BEGIN:VCALENDAR
VERSION:2.0
PRODID:-//AusschreibungsRadar//Timeline//DE
CALSCALE:GREGORIAN
METHOD:PUBLISH
X-WR-CALNAME:Projekt Freigestellter Schülerverkehr Heideschule im Landkreis Schwe
X-WR-TIMEZONE:Europe/Berlin
BEGIN:VEVENT
UID:7cfebde2cbbdd34a@ausschreibungsradar.com
DTSTAMP:20260424T044759Z
DTSTART;VALUE=DATE:20250610
DTEND;VALUE=DATE:20250610
SUMMARY:Angebotsfrist — Freigestellter Schülerverkehr Heideschule im Landkreis Schwe
DESCRIPTION:Phase: Ausschreibung | Beschreibung: Angebote werden eingeholt | Link: https://ausschreibungsradar.com/ausschreibung/06909c1d-6d9a-4a72-85db-ad49e4f873e5/
URL:https://ausschreibungsradar.com/ausschreibung/06909c1d-6d9a-4a72-85db-ad49e4f873e5/
END:VEVENT
BEGIN:VEVENT
UID:5683e7210040c8ab@ausschreibungsradar.com
DTSTAMP:20260424T044759Z
DTSTART;VALUE=DATE:20251106
DTEND;VALUE=DATE:20251106
SUMMARY:Vergabeergebnis — Freigestellter Schülerverkehr Heideschule im Landkreis Schwe
DESCRIPTION:Phase: Vergabeergebnis | Beschreibung: Auftrag wurde zugeschlagen | Link: https://ausschreibungsradar.com/ausschreibung/61909aec-b833-4f5c-ada5-e0312a3936e2/
URL:https://ausschreibungsradar.com/ausschreibung/61909aec-b833-4f5c-ada5-e0312a3936e2/
END:VEVENT
END:VCALENDAR
