BEGIN:VCALENDAR
VERSION:2.0
PRODID:-//AusschreibungsRadar//Timeline//DE
CALSCALE:GREGORIAN
METHOD:PUBLISH
X-WR-CALNAME:Projekt Generalsanierung des Gilardi-Anwesens Haupthaus, Gewerk 2526
X-WR-TIMEZONE:Europe/Berlin
BEGIN:VEVENT
UID:e14c43452e77eb29@ausschreibungsradar.com
DTSTAMP:20260424T163750Z
DTSTART;VALUE=DATE:20241125
DTEND;VALUE=DATE:20241125
SUMMARY:Zuschlag — Generalsanierung des Gilardi-Anwesens Haupthaus\, Gewerk 2526
DESCRIPTION:Phase: Zuschlag | Beschreibung: Vergabeergebnis — Auftrag wurde erteilt oder Verfahren beendet. | Link: https://ausschreibungsradar.com/ausschreibung/2d90fdf9-b9e3-4e76-a4cf-ba226915fec1/
URL:https://ausschreibungsradar.com/ausschreibung/2d90fdf9-b9e3-4e76-a4cf-ba226915fec1/
END:VEVENT
BEGIN:VEVENT
UID:f6fa9f74b8a77017@ausschreibungsradar.com
DTSTAMP:20260424T163750Z
DTSTART;VALUE=DATE:20250130
DTEND;VALUE=DATE:20250130
SUMMARY:Angebotsfrist — Generalsanierung des Gilardi-Anwesens Haupthaus\, Gewerk 2526
DESCRIPTION:Phase: Ausschreibung | Beschreibung: Angebote werden eingeholt | Link: https://ausschreibungsradar.com/ausschreibung/61c2130e-610d-4d66-9df5-bcce059ffaa2/
URL:https://ausschreibungsradar.com/ausschreibung/61c2130e-610d-4d66-9df5-bcce059ffaa2/
END:VEVENT
BEGIN:VEVENT
UID:727d14fb463d9308@ausschreibungsradar.com
DTSTAMP:20260424T163750Z
DTSTART;VALUE=DATE:20241218
DTEND;VALUE=DATE:20241218
SUMMARY:Ausschreibung — Generalsanierung des Gilardi-Anwesens Haupthaus\, Gewerk 2526
DESCRIPTION:Phase: Ausschreibung | Beschreibung: Offizielle Ausschreibung mit Bieterfrist. | Link: https://ausschreibungsradar.com/ausschreibung/11cf605c-c702-45a5-94bd-dec612af3d5d/
URL:https://ausschreibungsradar.com/ausschreibung/11cf605c-c702-45a5-94bd-dec612af3d5d/
END:VEVENT
BEGIN:VEVENT
UID:fffe69af93f35a32@ausschreibungsradar.com
DTSTAMP:20260424T163750Z
DTSTART;VALUE=DATE:20241218
DTEND;VALUE=DATE:20241218
SUMMARY:Ausschreibung — Generalsanierung des Gilardi-Anwesens Haupthaus\, Gewerk 2526
DESCRIPTION:Phase: Ausschreibung | Beschreibung: Offizielle Ausschreibung mit Bieterfrist. | Link: https://ausschreibungsradar.com/ausschreibung/29ba3d25-c17e-4dfd-b8e9-d210cd9304f0/
URL:https://ausschreibungsradar.com/ausschreibung/29ba3d25-c17e-4dfd-b8e9-d210cd9304f0/
END:VEVENT
BEGIN:VEVENT
UID:8c877e65a0bd370b@ausschreibungsradar.com
DTSTAMP:20260424T163750Z
DTSTART;VALUE=DATE:20241219
DTEND;VALUE=DATE:20241219
SUMMARY:Ausschreibung — Generalsanierung des Gilardi-Anwesens Haupthaus\, Gewerk 2526
DESCRIPTION:Phase: Ausschreibung | Beschreibung: Offizielle Ausschreibung mit Bieterfrist. | Link: https://ausschreibungsradar.com/ausschreibung/23184760/
URL:https://ausschreibungsradar.com/ausschreibung/23184760/
END:VEVENT
BEGIN:VEVENT
UID:d0cfd160fc5e55ba@ausschreibungsradar.com
DTSTAMP:20260424T163750Z
DTSTART;VALUE=DATE:20250320
DTEND;VALUE=DATE:20250320
SUMMARY:Vergabeergebnis — Generalsanierung des Gilardi-Anwesens Haupthaus\, Gewerk 2526
DESCRIPTION:Phase: Vergabeergebnis | Beschreibung: Auftrag wurde zugeschlagen | Link: https://ausschreibungsradar.com/ausschreibung/4d7feadf-7786-48a1-9d27-e2487660d9be/
URL:https://ausschreibungsradar.com/ausschreibung/4d7feadf-7786-48a1-9d27-e2487660d9be/
END:VEVENT
END:VCALENDAR
