BEGIN:VCALENDAR
VERSION:2.0
PRODID:-//AusschreibungsRadar//Timeline//DE
CALSCALE:GREGORIAN
METHOD:PUBLISH
X-WR-CALNAME:Projekt Durchführung der Schülerbeförderung für die Gemeinde Eitting
X-WR-TIMEZONE:Europe/Berlin
BEGIN:VEVENT
UID:d9a301fe7cdfeb50@ausschreibungsradar.com
DTSTAMP:20260424T233755Z
DTSTART;VALUE=DATE:20240606
DTEND;VALUE=DATE:20240606
SUMMARY:Angebotsfrist — Durchführung der Schülerbeförderung für die Gemeinde Eitting
DESCRIPTION:Phase: Ausschreibung | Beschreibung: Angebote werden eingeholt | Link: https://ausschreibungsradar.com/ausschreibung/61d13701-f73a-4dec-95fd-11a16ffc817c/
URL:https://ausschreibungsradar.com/ausschreibung/61d13701-f73a-4dec-95fd-11a16ffc817c/
END:VEVENT
END:VCALENDAR
