BEGIN:VCALENDAR
VERSION:2.0
PRODID:-//AusschreibungsRadar//Timeline//DE
CALSCALE:GREGORIAN
METHOD:PUBLISH
X-WR-CALNAME:Projekt Erweiterung Grundschule Falkenberg: Herstellung eines Bolzpl
X-WR-TIMEZONE:Europe/Berlin
BEGIN:VEVENT
UID:7e68b11bcb0e884b@ausschreibungsradar.com
DTSTAMP:20260424T091405Z
DTSTART;VALUE=DATE:20251007
DTEND;VALUE=DATE:20251007
SUMMARY:Angebotsfrist — Erweiterung Grundschule Falkenberg: Herstellung eines Bolzpl
DESCRIPTION:Phase: Ausschreibung | Beschreibung: Angebote werden eingeholt | Link: https://ausschreibungsradar.com/ausschreibung/6255fd79-4bd4-40fc-af07-32ea6f3ae543/
URL:https://ausschreibungsradar.com/ausschreibung/6255fd79-4bd4-40fc-af07-32ea6f3ae543/
END:VEVENT
BEGIN:VEVENT
UID:a8260a2c299ccaa1@ausschreibungsradar.com
DTSTAMP:20260424T091405Z
DTSTART;VALUE=DATE:20251030
DTEND;VALUE=DATE:20251030
SUMMARY:Vergabeergebnis — Erweiterung Grundschule Falkenberg: Herstellung eines Bolzpl
DESCRIPTION:Phase: Vergabeergebnis | Beschreibung: Auftrag wurde zugeschlagen | Link: https://ausschreibungsradar.com/ausschreibung/89822624-1af6-4f94-99cc-9012ff76abee/
URL:https://ausschreibungsradar.com/ausschreibung/89822624-1af6-4f94-99cc-9012ff76abee/
END:VEVENT
END:VCALENDAR
