BEGIN:VCALENDAR
VERSION:2.0
PRODID:-//AusschreibungsRadar//Timeline//DE
CALSCALE:GREGORIAN
METHOD:PUBLISH
X-WR-CALNAME:Projekt Neubau Lehrschwimmorientiertes Bad, Los 05 - Rohbau (XA-23-0
X-WR-TIMEZONE:Europe/Berlin
BEGIN:VEVENT
UID:08322923528630b2@ausschreibungsradar.com
DTSTAMP:20260425T184940Z
DTSTART;VALUE=DATE:20250117
DTEND;VALUE=DATE:20250117
SUMMARY:Ausschreibung — Neubau Lehrschwimmorientiertes Bad\, Los 05 - Rohbau (XA-23-0
DESCRIPTION:Phase: Ausschreibung | Beschreibung: Offizielle Ausschreibung mit Bieterfrist. | Link: https://ausschreibungsradar.com/ausschreibung/e2cbd3ea-87db-438a-af37-98f0fbc8dc63/
URL:https://ausschreibungsradar.com/ausschreibung/e2cbd3ea-87db-438a-af37-98f0fbc8dc63/
END:VEVENT
BEGIN:VEVENT
UID:f926824f346b9e68@ausschreibungsradar.com
DTSTAMP:20260425T184940Z
DTSTART;VALUE=DATE:20250227
DTEND;VALUE=DATE:20250227
SUMMARY:Angebotsfrist — Neubau Lehrschwimmorientiertes Bad\, Los 05 - Rohbau (XA-23-0
DESCRIPTION:Phase: Ausschreibung | Beschreibung: Angebote werden eingeholt | Link: https://ausschreibungsradar.com/ausschreibung/62cb3a22-9ac4-4b76-a3ad-9c6e654e489b/
URL:https://ausschreibungsradar.com/ausschreibung/62cb3a22-9ac4-4b76-a3ad-9c6e654e489b/
END:VEVENT
BEGIN:VEVENT
UID:96db18d9a651ea14@ausschreibungsradar.com
DTSTAMP:20260425T184940Z
DTSTART;VALUE=DATE:20250613
DTEND;VALUE=DATE:20250613
SUMMARY:Vergabeergebnis — Neubau Lehrschwimmorientiertes Bad\, Los 05 - Rohbau (XA-23-0
DESCRIPTION:Phase: Vergabeergebnis | Beschreibung: Auftrag wurde zugeschlagen | Link: https://ausschreibungsradar.com/ausschreibung/163c1b13-0f69-43e9-bf4f-9f3b7f0131b1/
URL:https://ausschreibungsradar.com/ausschreibung/163c1b13-0f69-43e9-bf4f-9f3b7f0131b1/
END:VEVENT
END:VCALENDAR
