BEGIN:VCALENDAR
VERSION:2.0
PRODID:-//AusschreibungsRadar//Timeline//DE
CALSCALE:GREGORIAN
METHOD:PUBLISH
X-WR-CALNAME:Projekt FUKI_TWP offenes_Verf
X-WR-TIMEZONE:Europe/Berlin
BEGIN:VEVENT
UID:241cf345bb7a3bcb@ausschreibungsradar.com
DTSTAMP:20260424T155452Z
DTSTART;VALUE=DATE:20240705
DTEND;VALUE=DATE:20240705
SUMMARY:Angebotsfrist — FUKI_TWP offenes_Verf
DESCRIPTION:Phase: Ausschreibung | Beschreibung: Angebote werden eingeholt | Link: https://ausschreibungsradar.com/ausschreibung/6309d5b1-4404-4d8e-a28b-a10f21eee983/ | Geschätzter Wert: 200000 €
URL:https://ausschreibungsradar.com/ausschreibung/6309d5b1-4404-4d8e-a28b-a10f21eee983/
END:VEVENT
BEGIN:VEVENT
UID:cc8d077710cafd71@ausschreibungsradar.com
DTSTAMP:20260424T155452Z
DTSTART;VALUE=DATE:20240809
DTEND;VALUE=DATE:20240809
SUMMARY:Vergabeergebnis — FUKI_TWP offenes_Verf
DESCRIPTION:Phase: Vergabeergebnis | Beschreibung: Auftrag wurde zugeschlagen | Link: https://ausschreibungsradar.com/ausschreibung/b4e21cee-aa07-4c45-9334-345185a450c6/ | Geschätzter Wert: 200000 €
URL:https://ausschreibungsradar.com/ausschreibung/b4e21cee-aa07-4c45-9334-345185a450c6/
END:VEVENT
END:VCALENDAR
