BEGIN:VCALENDAR
VERSION:2.0
PRODID:-//AusschreibungsRadar//Timeline//DE
CALSCALE:GREGORIAN
METHOD:PUBLISH
X-WR-CALNAME:Projekt Errichtung einer 110 kV-Trasse inkl. Kabelanschlüsse
X-WR-TIMEZONE:Europe/Berlin
BEGIN:VEVENT
UID:272aa4fdc98ddcb6@ausschreibungsradar.com
DTSTAMP:20260424T034943Z
DTSTART;VALUE=DATE:20241008
DTEND;VALUE=DATE:20241008
SUMMARY:Ausschreibung — Errichtung einer 110 kV-Trasse inkl. Kabelanschlüsse
DESCRIPTION:Phase: Ausschreibung | Beschreibung: Angebote werden eingeholt | Link: https://ausschreibungsradar.com/ausschreibung/639c6cc6-e6d3-431c-ae28-1cf2f7aabe4e/
URL:https://ausschreibungsradar.com/ausschreibung/639c6cc6-e6d3-431c-ae28-1cf2f7aabe4e/
END:VEVENT
BEGIN:VEVENT
UID:aa43cd8ceff9fcc1@ausschreibungsradar.com
DTSTAMP:20260424T034943Z
DTSTART;VALUE=DATE:20241008
DTEND;VALUE=DATE:20241008
SUMMARY:Ausschreibung — Errichtung einer 110 kV-Trasse inkl. Kabelanschlüsse
DESCRIPTION:Phase: Ausschreibung | Beschreibung: Offizielle Ausschreibung mit Bieterfrist. | Link: https://ausschreibungsradar.com/ausschreibung/a8610e07-609d-4eee-b187-4c1d57ebb707/
URL:https://ausschreibungsradar.com/ausschreibung/a8610e07-609d-4eee-b187-4c1d57ebb707/
END:VEVENT
END:VCALENDAR
