BEGIN:VCALENDAR
VERSION:2.0
PRODID:-//AusschreibungsRadar//Timeline//DE
CALSCALE:GREGORIAN
METHOD:PUBLISH
X-WR-CALNAME:Projekt Bereitschaftspolizei und Polizeifachschule Chemnitz, Neubau 
X-WR-TIMEZONE:Europe/Berlin
BEGIN:VEVENT
UID:7bc40468d3deeeb6@ausschreibungsradar.com
DTSTAMP:20260425T131517Z
DTSTART;VALUE=DATE:20240605
DTEND;VALUE=DATE:20240605
SUMMARY:Zuschlag — Bereitschaftspolizei und Polizeifachschule Chemnitz\, Neubau 
DESCRIPTION:Phase: Zuschlag | Beschreibung: Vergabeergebnis — Auftrag wurde erteilt oder Verfahren beendet. | Link: https://ausschreibungsradar.com/ausschreibung/dee6a25e-1545-41d9-983d-75da4a71bfc9/
URL:https://ausschreibungsradar.com/ausschreibung/dee6a25e-1545-41d9-983d-75da4a71bfc9/
END:VEVENT
BEGIN:VEVENT
UID:62499a3405ef3664@ausschreibungsradar.com
DTSTAMP:20260425T131517Z
DTSTART;VALUE=DATE:20240730
DTEND;VALUE=DATE:20240730
SUMMARY:Angebotsfrist — Bereitschaftspolizei und Polizeifachschule Chemnitz\, Neubau 
DESCRIPTION:Phase: Ausschreibung | Beschreibung: Angebote werden eingeholt | Link: https://ausschreibungsradar.com/ausschreibung/63b6defd-8f97-411b-92d3-ffadcca5375d/
URL:https://ausschreibungsradar.com/ausschreibung/63b6defd-8f97-411b-92d3-ffadcca5375d/
END:VEVENT
BEGIN:VEVENT
UID:124733b267181c8d@ausschreibungsradar.com
DTSTAMP:20260425T131517Z
DTSTART;VALUE=DATE:20241211
DTEND;VALUE=DATE:20241211
SUMMARY:Vergabeergebnis — Bereitschaftspolizei und Polizeifachschule Chemnitz\, Neubau 
DESCRIPTION:Phase: Vergabeergebnis | Beschreibung: Auftrag wurde zugeschlagen | Link: https://ausschreibungsradar.com/ausschreibung/68dce035-f110-48b9-9032-649beb5d03fb/
URL:https://ausschreibungsradar.com/ausschreibung/68dce035-f110-48b9-9032-649beb5d03fb/
END:VEVENT
END:VCALENDAR
