BEGIN:VCALENDAR
VERSION:2.0
PRODID:-//AusschreibungsRadar//Timeline//DE
CALSCALE:GREGORIAN
METHOD:PUBLISH
X-WR-CALNAME:Projekt Neubau MFH Untere Mangfallstr_TW_(Nr. 63)
X-WR-TIMEZONE:Europe/Berlin
BEGIN:VEVENT
UID:e9a8f82f5be62a55@ausschreibungsradar.com
DTSTAMP:20260426T025746Z
DTSTART;VALUE=DATE:20250123
DTEND;VALUE=DATE:20250123
SUMMARY:Zuschlag — Neubau MFH Untere Mangfallstr_TW_(Nr. 63)
DESCRIPTION:Phase: Zuschlag | Beschreibung: Vergabeergebnis — Auftrag wurde erteilt oder Verfahren beendet. | Link: https://ausschreibungsradar.com/ausschreibung/83c4bfa6-a535-4bef-92d0-4424f45ff3b5/
URL:https://ausschreibungsradar.com/ausschreibung/83c4bfa6-a535-4bef-92d0-4424f45ff3b5/
END:VEVENT
BEGIN:VEVENT
UID:775c4ab864e7ae3a@ausschreibungsradar.com
DTSTAMP:20260426T025746Z
DTSTART;VALUE=DATE:20250218
DTEND;VALUE=DATE:20250218
SUMMARY:Zuschlag — Neubau MFH Untere Mangfallstr_TW_(Nr. 63)
DESCRIPTION:Phase: Zuschlag | Beschreibung: Vergabeergebnis — Auftrag wurde erteilt oder Verfahren beendet. | Link: https://ausschreibungsradar.com/ausschreibung/63de00b3-7683-460b-9941-ff49bb165e08/ | Geschätzte
URL:https://ausschreibungsradar.com/ausschreibung/63de00b3-7683-460b-9941-ff49bb165e08/
END:VEVENT
END:VCALENDAR
